Workbook

Sheet 汇总1
A1: 淮北市支持现代农业发展项目汇总表
T2: 金额单位：万元
A3: 序号 | B3: 项目 | C3: 相山区 | G3: 烈山区 | K3: 杜集区 | O3: 濉溪县 | S3: 合计 | W3: 发放金额
C4: 申报个数 | D4: 申报金额 | E4: 审定个数 | F4: 审定金额 | G4: 申报个数 | H4: 申报金额 | I4: 审定个数 | J4: 审定金额 | K4: 申报个数 | L4: 申报金额 | M4: 审定个数 | N4: 审定金额 | O4: 申报个数 | P4: 申报金额 | Q4: 审定个数 | R4: 审定金额 | S4: 申报个数 | T4: 申报金额 | U4: 审定个数 | V4: 审定金额
A5: 1 | B5: 支持全程托管社会化服务项目 | V5: 0 | W5: 0
A6: 2 | B6: 支持种业育繁推体系建设 | I6: 2 | J6: 200 | K6: 2 | L6: 200 | S6: 2 | T6: 200 | U6: 2 | V6: 200 | W6: 71.401179
A7: 3 | B7: 支持种质资源库（圃、场）库项目 | V7: 0 | W7: 0
A8: 4 | B8: 支持种业科研项目 | C8: 1 | D8: 50 | G8: 1 | H8: 50 | I8: 13 | J8: 800.3202 | K8: 15 | L8: 900.3202 | M8: 1 | N8: 100 | Q8: 1 | R8: 50 | S8: 13 | T8: 750.32 | U8: 15 | V8: 900.32 | W8: 321.41955
A9: 5 | B9: 支持日光温室、钢构大棚和连动温室建设 | C9: 2 | D9: 224.72 | E9: 10 | F9: 394.92 | I9: 8 | J9: 312.92 | K9: 20 | L9: 932.56 | M9: 2 | N9: 212.45 | O9: 2 | P9: 210 | S9: 6 | T9: 267.54 | U9: 10 | V9: 689.99 | W9: 246.3305
A10: 6 | B10: 支持机械化综合农事服务中心等建设 | L10: 0 | V10: 0 | W10: 0
A11: 7 | B11: 支持畜禽保种场项目 | I11: 2 | J11: 30 | K11: 2 | L11: 30 | S11: 2 | T11: 30 | U11: 2 | V11: 30 | W11: 10.710177
A12: 8 | B12: 支持水产养殖项目 | L12: 0 | V12: 0 | W12: 0
A13: 9 | B13: 支持兽医实验室建设 | L13: 0 | V13: 0 | W13: 0
A14: 10 | B14: 支持兽医社会化服务组织 | C14: 3 | D14: 1.4 | I14: 1 | J14: 10 | K14: 4 | L14: 11.4 | M14: 3 | N14: 1.4 | S14: 1 | T14: 10 | U14: 4 | V14: 11.4 | W14: 4.0698672
A15: 11 | B15: 支持农产品加工业发展项目 | L15: 0 | S15: 4 | T15: 200 | U15: 4 | V15: 200 | W15: 0
A16: 12 | B16: 支持冷库、保鲜库建设项目 | C16: 3 | D16: 260.26 | E16: 2 | F16: 284.95 | G16: 3 | H16: 599.65 | I16: 13 | J16: 1023.6053 | K16: 21 | L16: 2168.4653 | M16: 2 | N16: 60.26 | O16: 2 | P16: 284.95 | Q16: 2 | R16: 399.65 | S16: 13 | T16: 1015.8637 | U16: 19 | V16: 1760.7237 | W16: 630.58854
A17: 13 | B17: 支持“淮优”专业协会开拓市场项目 | C17: 2 | D17: 40 | E17: 1 | F17: 20 | G17: 1 | H17: 20 | I17: 2 | J17: 40 | K17: 6 | L17: 120 | M17: 2 | N17: 40 | O17: 1 | P17: 20 | Q17: 1 | R17: 20 | S17: 2 | T17: 40 | U17: 6 | V17: 120 | W17: 42.840707
A18: 14 | B18: 支持三品一标和名牌农产品建设 | C18: 14 | D18: 128 | E18: 16 | F18: 97 | G18: 12 | H18: 99 | I18: 35 | J18: 226 | K18: 77 | L18: 550 | M18: 14 | N18: 129 | O18: 11 | P18: 89 | Q18: 12 | R18: 96 | S18: 35 | T18: 226 | U18: 72 | V18: 540 | W18: 192.78318
A19: 15 | B19: 支持参加农产品展示展销活动项目 | C19: 29 | D19: 8 | E19: 16 | F19: 10 | G19: 31 | H19: 10.1 | I19: 72 | J19: 40.4 | K19: 148 | L19: 68.5 | M19: 27 | N19: 6.3 | O19: 16 | P19: 10.5 | Q19: 31 | R19: 9.6 | S19: 68 | T19: 38.2 | U19: 142 | V19: 64.6 | W19: 23.062581
A20: 16 | B20: 支持农业产业化重点龙头企业项目 | I20: 1 | J20: 50 | K20: 1 | L20: 50 | S20: 1 | T20: 50 | U20: 1 | V20: 50 | W20: 17.850295
A21: 17 | B21: 支持农业产业化家庭农场项目 | E21: 1 | F21: 10 | I21: 6 | J21: 60 | K21: 7 | L21: 70 | O21: 1 | P21: 10 | S21: 6 | T21: 60 | U21: 7 | V21: 70 | W21: 24.990413
A22: 18 | B22: 支持农业产业化合作社项目 | I22: 1 | J22: 50 | K22: 1 | L22: 50 | S22: 1 | T22: 50 | U22: 1 | V22: 50 | W22: 17.850295
A23: 19 | B23: 支持“淮优”农产品生产主体 | C23: 14 | D23: 28 | E23: 18 | F23: 38 | G23: 17 | H23: 34 | I23: 50 | J23: 100 | K23: 99 | L23: 200 | M23: 14 | N23: 28 | O23: 17 | P23: 34 | Q23: 17 | R23: 34 | S23: 50 | T23: 100 | U23: 98 | V23: 196 | W23: 69.973155
A24: 20 | B24: 支持“淮优”农产品宣传推广 | G24: 1 | H24: 100 | K24: 1 | L24: 100 | Q24: 1 | R24: 100 | U24: 1 | V24: 100 | W24: 35.700589
A25: 21 | B25: 支持农业信息化应用 | C25: 1 | D25: 5 | E25: 1 | F25: 5 | G25: 1 | H25: 5 | I25: 2 | J25: 15 | K25: 5 | L25: 30 | M25: 1 | N25: 5 | O25: 1 | P25: 5 | Q25: 1 | R25: 5 | S25: 1 | T25: 5 | U25: 4 | V25: 20 | W25: 7.1401179
A26: 22 | B26: 支持农业贷款贴息项目 | C26: 4 | D26: 167 | E26: 12 | F26: 150.5451 | G26: 12 | H26: 382.08 | I26: 58 | J26: 1434.87 | K26: 86 | L26: 2134.4951 | M26: 3 | N26: 133.8125 | O26: 10 | P26: 103.232 | Q26: 12 | R26: 391.64 | S26: 55 | T26: 1133.0828 | U26: 80 | V26: 1761.7673 | W26: 628.96132
B27: 合 计 | C27: 73 | D27: 912.38 | E27: 77 | F27: 1010.4151 | G27: 79 | H27: 1299.83 | I27: 266 | J27: 4393.1155 | K27: 495 | L27: 7615.7406 | M27: 69 | N27: 716.2225 | O27: 61 | P27: 766.682 | Q27: 78 | R27: 1105.89 | S27: 260 | T27: 4176.0065 | U27: 468 | V27: 6764.801 | W27: 2345.6725
W37: =V27*W40 -> 2426.2417
V40: =3000/V46 -> 0.35865677 | W40: =3000/V46 -> 0.35865677
V46: =V27+'[1]汇总-肉牛产业发展'!$V$19 -> 8364.543 | Y46: ='[1]汇总-肉牛产业发展'!$V$19/V46*3000 -> 573.7583
V47: 1634.93
V48: 1659.78
V51: =3000/V46 -> 0.35865677

Sheet 1.汇总
A1: 淮北市支持现代农业发展项目汇总表
T2: 金额单位：万元
A3: 序号 | B3: 项目 | C3: 县区审定奖补金额（万元） | M3: 核查审定奖补金额（万元） | W3: 发放金额
C4: 杜集区 | E4: 烈山区 | G4: 相山区 | I4: 濉溪县 | K4: 合计 | M4: 杜集区 | O4: 烈山区 | Q4: 相山区 | S4: 濉溪县 | U4: 合计
C5: 个数 | D5: 金额 | E5: 个数 | F5: 金额 | G5: 个数 | H5: 金额 | I5: 个数 | J5: 金额 | K5: 个数 | L5: 金额 | M5: 个数 | N5: 金额 | O5: 个数 | P5: 金额 | Q5: 个数 | R5: 金额 | S5: 个数 | T5: 金额 | U5: 个数 | V5: 金额
A6: 1 | B6: 支持种业育繁推体系建设 | I6: 2 | J6: 200 | K6: =SUM(C6+E6+G6+I6) -> 2 | L6: =SUM(D6+F6+H6+J6) -> 200 | S6: 2 | T6: 200 | U6: =SUM(M6+O6+Q6+S6) -> 2 | V6: =SUM(N6+P6+R6+T6) -> 200 | W6: =V6*$V$32 -> 71.731354
A7: 2 | B7: 支持种业科研项目-种业实验室 | C7: 1 | D7: 50 | G7: 1 | H7: 50 | I7: 8 | J7: 150.3202 | K7: =SUM(C7+E7+G7+I7) -> 10 | L7: =SUM(D7+F7+H7+J7) -> 250.3202 | M7: 1 | N7: 100 | S7: 7 | T7: 100.3202 | U7: =SUM(M7+O7+Q7+S7) -> 8 | V7: =SUM(N7+P7+R7+T7) -> 200.3202 | W7: =V7*$V$32 -> 71.846196
B8: 支持种业科研项目-种业院士、首席专家工作室 | G8: 1 | H8: 50 | I8: 13 | J8: 650 | K8: =SUM(C8+E8+G8+I8) -> 14 | L8: =SUM(D8+F8+H8+J8) -> 700 | Q8: 1 | R8: 50 | S8: 13 | T8: 650 | U8: 14 | V8: =SUM(N8+P8+R8+T8) -> 700 | W8: =V8*$V$32 -> 251.05974
A9: 3 | B9: 支持日光温室、钢构大棚和连栋温室建设 | C9: 2 | D9: 224.72 | E9: 10 | F9: 394.92 | I9: 8 | J9: 312.92 | K9: =SUM(C9+E9+G9+I9) -> 20 | L9: =SUM(D9+F9+H9+J9) -> 932.56 | M9: 2 | N9: 212.45 | O9: 2 | P9: 210 | S9: 6 | T9: 267.54 | U9: =SUM(M9+O9+Q9+S9) -> 10 | V9: =SUM(N9+P9+R9+T9) -> 689.99 | W9: =V9*$V$32 -> 247.46959
A10: 4 | B10: 支持机械化综合农事服务中心等建设 | L10: =SUM(D10+F10+H10+J10) -> 0 | S10: 4 | T10: 200 | U10: =SUM(M10+O10+Q10+S10) -> 4 | V10: =SUM(N10+P10+R10+T10) -> 200 | W10: =V10*$V$32 -> 71.731354
A11: 5 | B11: 支持畜禽保种场项目 | I11: 2 | J11: 30 | K11: =SUM(C11+E11+G11+I11) -> 2 | L11: =SUM(D11+F11+H11+J11) -> 30 | S11: 2 | T11: 30 | U11: =SUM(M11+O11+Q11+S11) -> 2 | V11: =SUM(N11+P11+R11+T11) -> 30 | W11: =V11*$V$32 -> 10.759703
A12: 6 | B12: 支持兽医社会化服务组织 | C12: 3 | D12: 1.4 | I12: 1 | J12: 10 | K12: =SUM(C12+E12+G12+I12) -> 4 | L12: =SUM(D12+F12+H12+J12) -> 11.4 | M12: 3 | N12: 1.4 | S12: 1 | T12: 10 | U12: =SUM(M12+O12+Q12+S12) -> 4 | V12: =SUM(N12+P12+R12+T12) -> 11.4 | W12: =V12*$V$32 -> 4.0886872
A13: 7 | B13: 支持冷库、保鲜库建设项目 | C13: 3 | D13: 260.26 | E13: 2 | F13: 284.95 | G13: 3 | H13: 599.65 | I13: 13 | J13: 1023.6053 | K13: =SUM(C13+E13+G13+I13) -> 21 | L13: =SUM(D13+F13+H13+J13) -> 2168.4653 | M13: 2 | N13: 60.26 | O13: 2 | P13: 284.95 | Q13: 2 | R13: 399.65 | S13: 13 | T13: 1015.8637 | U13: =SUM(M13+O13+Q13+S13) -> 19 | V13: =SUM(N13+P13+R13+T13) -> 1760.7237 | W13: =V13*$V$32 -> 631.49548
A14: 8 | B14: 支持“淮优”专业协会开拓市场项目 | C14: 2 | D14: 40 | E14: 1 | F14: 20 | G14: 1 | H14: 20 | I14: 2 | J14: 40 | K14: =SUM(C14+E14+G14+I14) -> 6 | L14: =SUM(D14+F14+H14+J14) -> 120 | M14: 2 | N14: 40 | O14: 1 | P14: 20 | Q14: 1 | R14: 20 | S14: 2 | T14: 40 | U14: =SUM(M14+O14+Q14+S14) -> 6 | V14: =SUM(N14+P14+R14+T14) -> 120 | W14: =V14*$V$32 -> 43.038813
A15: 9 | B15: 支持“三品一标”和名牌农产品建设 | C15: 14 | D15: 128 | E15: 16 | F15: 97 | G15: 12 | H15: 99 | I15: 35 | J15: 226 | K15: =SUM(C15+E15+G15+I15) -> 77 | L15: =SUM(D15+F15+H15+J15) -> 550 | M15: 14 | N15: 129 | O15: 11 | P15: 89 | Q15: 12 | R15: 96 | S15: 35 | T15: 226 | U15: =SUM(M15+O15+Q15+S15) -> 72 | V15: =SUM(N15+P15+R15+T15) -> 540 | W15: =V15*$V$32 -> 193.67466
A16: 10 | B16: 支持参加农产品展示展销活动项目 | C16: 29 | D16: 8 | E16: 16 | F16: 10 | G16: 31 | H16: 10.1 | I16: 72 | J16: 40.4 | K16: =SUM(C16+E16+G16+I16) -> 148 | L16: =SUM(D16+F16+H16+J16) -> 68.5 | M16: 27 | N16: 6.3 | O16: 16 | P16: 10.5 | Q16: 31 | R16: 9.6 | S16: 68 | T16: 38.2 | U16: =SUM(M16+O16+Q16+S16) -> 142 | V16: =SUM(N16+P16+R16+T16) -> 64.6 | W16: =V16*$V$32 -> 23.169227
A17: 11 | B17: 支持农业产业化重点龙头企业项目 | I17: 1 | J17: 50 | K17: =SUM(C17+E17+G17+I17) -> 1 | L17: =SUM(D17+F17+H17+J17) -> 50 | S17: 1 | T17: 50 | U17: =SUM(M17+O17+Q17+S17) -> 1 | V17: =SUM(N17+P17+R17+T17) -> 50 | W17: =V17*$V$32 -> 17.932839
A18: 12 | B18: 支持农业产业化家庭农场项目 | E18: 1 | F18: 10 | I18: 6 | J18: 60 | K18: =SUM(C18+E18+G18+I18) -> 7 | L18: =SUM(D18+F18+H18+J18) -> 70 | O18: 1 | P18: 10 | S18: 6 | T18: 60 | U18: =SUM(M18+O18+Q18+S18) -> 7 | V18: =SUM(N18+P18+R18+T18) -> 70 | W18: =V18*$V$32 -> 25.105974
A19: 13 | B19: 支持农业产业化合作社项目 | I19: 1 | J19: 50 | K19: =SUM(C19+E19+G19+I19) -> 1 | L19: =SUM(D19+F19+H19+J19) -> 50 | S19: 1 | T19: 50 | U19: =SUM(M19+O19+Q19+S19) -> 1 | V19: =SUM(N19+P19+R19+T19) -> 50 | W19: =V19*$V$32 -> 17.932839
A20: 14 | B20: 支持“淮优”农产品生产主体 | C20: 14 | D20: 28 | E20: 18 | F20: 38 | G20: 17 | H20: 34 | I20: 50 | J20: 100 | K20: =SUM(C20+E20+G20+I20) -> 99 | L20: =SUM(D20+F20+H20+J20) -> 200 | M20: 14 | N20: 28 | O20: 17 | P20: 34 | Q20: 17 | R20: 34 | S20: 50 | T20: 100 | U20: =SUM(M20+O20+Q20+S20) -> 98 | V20: =SUM(N20+P20+R20+T20) -> 196 | W20: =V20*$V$32 -> 70.296727
A21: 15 | B21: 支持“淮优”农产品宣传推广 | G21: 1 | H21: 100 | K21: =SUM(C21+E21+G21+I21) -> 1 | L21: =SUM(D21+F21+H21+J21) -> 100 | Q21: 1 | R21: 100 | U21: =SUM(M21+O21+Q21+S21) -> 1 | V21: =SUM(N21+P21+R21+T21) -> 100 | W21: =V21*$V$32 -> 35.865677
A22: 16 | B22: 支持农业信息化应用 | C22: 1 | D22: 5 | E22: 1 | F22: 5 | G22: 1 | H22: 5 | I22: 2 | J22: 15 | K22: =SUM(C22+E22+G22+I22) -> 5 | L22: =SUM(D22+F22+H22+J22) -> 30 | M22: 1 | N22: 5 | O22: 1 | P22: 5 | Q22: 1 | R22: 5 | S22: 1 | T22: 5 | U22: =SUM(M22+O22+Q22+S22) -> 4 | V22: =SUM(N22+P22+R22+T22) -> 20 | W22: =V22*$V$32 -> 7.1731354
A23: 17 | B23: 支持农业贷款贴息项目 | C23: 4 | D23: 167 | E23: 12 | F23: 150.5451 | G23: 12 | H23: 382.08 | I23: 58 | J23: 1434.87 | K23: =SUM(C23+E23+G23+I23) -> 86 | L23: =SUM(D23+F23+H23+J23) -> 2134.4951 | M23: 3 | N23: 133.8125 | O23: 10 | P23: 103.232 | Q23: 12 | R23: 391.64 | S23: 55 | T23: 1133.0828 | U23: =SUM(M23+O23+Q23+S23) -> 80 | V23: =SUM(N23+P23+R23+T23) -> 1761.7673 | W23: =V23*$V$32 -> 631.86978
B24: 合 计 | C24: =SUM(C6:C23) -> 73 | D24: =SUM(D6:D23) -> 912.38 | E24: =SUM(E6:E23) -> 77 | F24: =SUM(F6:F23) -> 1010.4151 | G24: =SUM(G6:G23) -> 80 | H24: =SUM(H6:H23) -> 1349.83 | I24: =SUM(I6:I23) -> 274 | J24: =SUM(J6:J23) -> 4393.1155 | ... W24: =SUM(W6:W23) -> 2426.2418
V32: =汇总1!V40 -> 0.35865677

Sheet 1-1.支持种业育繁推体系建设项目
A1: 支持种业育繁推体系建设项目汇总表
A2: 序号 | B2: 县区 | C2: 项目名称 | D2: 实施单位 | E2: 设施设备 投资额（万元） | F2: 补贴标准 | G2: 销售额 （万元） | H2: 县区审定奖补 金额（万元） | I2: 核查审定投 资额（万元） | J2: 核查审定奖补金额（万元） | K2: 发放金额（万元）
A3: 1 | B3: 濉溪县 | C3: 支持畜禽水产育繁推基地(企业)建设 | D3: 安徽标王农牧股份有限公司 | E3: 337.6 | F3: 0.3 | G3: 10258 | H3: 100 | I3: =E3 -> 337.6 | J3: =H3 -> 100 | K3: =J3*汇总1!$V$40 -> 35.865677
A4: 2 | B4: 濉溪县 | C4: 支持畜禽水产育繁推基地(企业)建设 | D4: 安徽牧腾农业科技发展有限公司 | E4: 335.167 | F4: 0.3 | G4: 1507 | H4: 100 | I4: =E4 -> 335.167 | J4: =H4 -> 100 | K4: =J4*汇总1!$V$40 -> 35.865677
B5: 合 计 | H5: 200 | J5: =SUM(J3:J4) -> 200 | K5: =J5*汇总1!$V$40 -> 71.731354

Sheet 1-2-1.种业实验室
A1: 支持种业科研项目汇总表
A2: 序号 | B2: 县区 | C2: 项目名称 | D2: 实施单位 | E2: 财政支持内容 | F2: 设备投资 （万元） | G2: 奖补标准 | H2: 县区审定奖补 金额（万元） | I2: 核查审定投资额（万元） | J2: 核查审定奖补 金额（万元） | K2: 发放金额（万元） | L2: 备注
A3: 1 | B3: 濉溪县 | C3: 种业实验室建设 | D3: 安徽大自然种猪股份有限公司 | E3: 建立种业试验站 | F3: 24.25 | G3: 设备投资 的50% | H3: 12.125 | I3: =F3 -> 24.25 | J3: =H3 -> 12.125 | K3: =J3*汇总1!$V$40 -> 4.3487134
A4: 2 | B4: 濉溪县 | C4: 种业实验室建设 | D4: 淮北市金鳜湖水产养殖有限公司 | E4: 建立种业试验站 | F4: 10.6 | G4: 设备投资 的50% | H4: 5.3 | I4: =F4 -> 10.6 | J4: =H4 -> 5.3 | K4: =J4*汇总1!$V$40 -> 1.9008809
A5: 3 | B5: 濉溪县 | C5: 种业实验室建设 | D5: 淮北双收种业有限责任公司 | E5: 建立种业试验站 | F5: 100.0594 | G5: 设备投资 的50% | H5: 50.03 | I5: =F5 -> 100.0594 | J5: 50.03 | K5: =J5*汇总1!$V$40 -> 17.943598
A6: 4 | B6: 濉溪县 | C6: 种业实验室建设 | D6: 濉溪鲁研种业有限公司 | E6: 建立种业试验站 | F6: 3.416 | G6: 设备投资 的50% | H6: 1.708 | I6: =F6 -> 3.416 | J6: =H6 -> 1.708 | K6: =J6*汇总1!$V$40 -> 0.61258577
A7: 5 | B7: 濉溪县 | C7: 种业实验室建设 | D7: 淮北市三丰肥业有限公司 | E7: 建立种业试验站 | F7: 138.6 | G7: 设备投资 的50% | H7: 50 | I7: 0 | J7: 0 | K7: =J7*汇总1!$V$40 -> 0 | L7: 设备不是24年新购，本次核销
A8: 6 | B8: 濉溪县 | C8: 种业实验室建设 | D8: 安徽永民种业有限责任公司 | E8: 建立种业试验站 | F8: 43.14 | G8: 设备投资 的50% | H8: 21.57 | I8: =F8 -> 43.14 | J8: =H8 -> 21.57 | K8: =J8*汇总1!$V$40 -> 7.7362266
A9: 7 | B9: 濉溪县 | C9: 种业实验室建设 | D9: 安徽标王农牧股份有限公司 | E9: 建立种业试验站 | F9: 6.5744 | G9: 设备投资 的50% | H9: =F9/2 -> 3.2872 | I9: =F9 -> 6.5744 | J9: =H9 -> 3.2872 | K9: =J9*汇总1!$V$40 -> 1.1789765
A10: 8 | B10: 濉溪县 | C10: 种业实验室建设 | D10: 淮北农康农业科技有限公司 | E10: 建立种业试验站 | F10: 12.6 | G10: 设备投资 的50% | H10: 6.3 | I10: =F10 -> 12.6 | J10: =H10 -> 6.3 | K10: =J10*汇总1!$V$40 -> 2.2595377
A11: 9 | B11: 杜集区 | C11: 种业实验室建设 | D11: 淮北市天汇农 业发展有限公 司 | E11: 建立种业试验站 | F11: 324.13 | G11: 设备投资 的50% | H11: 50 | I11: =F11 -> 324.13 | J11: 100 | K11: =J11*汇总1!$V$40 -> 35.865677
A12: 10 | B12: 相山区 | C12: 种业实验室建设 | D12: 淮北校春文化旅游发展有限公司 | E12: 建立种业试验站 | G12: 设备投资 的50% | H12: 0 | J12: =H12 -> 0 | K12: =J12*汇总1!$V$40 -> 0 | L12: 县区已核销
B13: 合 计 | H13: =SUM(H3:H12) -> 200.3202 | J13: =SUM(J3:J12) -> 200.3202 | K13: =J13*汇总1!$V$40 -> 71.846196

Sheet 1-2-2.种业院士、首席专家工作室
A1: 支持种业科研项目汇总表
A2: 序号 | B2: 县区 | C2: 项目名称 | D2: 实施单位 | E2: 财政支持内容 | F2: 设备投资 （万元） | G2: 奖补标准 | H2: 县区审定奖补 金额（万元） | I2: 核查审定奖补 金额（万元） | J2: 发放金额（万元） | K2: 备注
A3: 1 | B3: 濉溪县 | C3: 种业院士、首席专家工作室建设 | D3: 安徽大自然种猪股份有限公司 | E3: 种业院士、首席专家工作室 ( 站 ) | G3: 50万元 | H3: 50 | I3: =H3 -> 50 | J3: =I3*汇总1!$V$40 -> 17.932839
A4: 2 | B4: 濉溪县 | C4: 种业院士、首席专家工作室建设 | D4: 淮北市金鳜湖水产养殖有限公司 | E4: 种业院士、首席专家工作室 ( 站 ) | G4: 50万元 | H4: 50 | I4: =H4 -> 50 | J4: =I4*汇总1!$V$40 -> 17.932839
A5: 3 | B5: 濉溪县 | C5: 种业院士、首席专家工作室建设 | D5: 淮北双收种业有限责任公司 | E5: 种业院士、首席专家工作室 ( 站 ) | G5: 50万元 | H5: 50 | I5: 50 | J5: =I5*汇总1!$V$40 -> 17.932839
A6: 4 | B6: 濉溪县 | C6: 种业院士、首席专家工作室建设 | D6: 濉溪鲁研种业有限公司 | E6: 种业院士、首席专家工作室 ( 站 ) | G6: 50万元 | H6: 50 | I6: =H6 -> 50 | J6: =I6*汇总1!$V$40 -> 17.932839
A7: 5 | B7: 濉溪县 | C7: 种业院士、首席专家工作室建设 | D7: 淮北市农兴农业科技有限公司 | E7: 种业院士、首席专家工作室 ( 站 ) | G7: 50万元 | H7: 50 | I7: =H7 -> 50 | J7: =I7*汇总1!$V$40 -> 17.932839
A8: 6 | B8: 濉溪县 | C8: 种业院士、首席专家工作室建设 | D8: 淮北市三丰肥业有限公司 | E8: 种业院士、首席专家工作室 ( 站 ) | G8: 50万元 | H8: 50 | I8: 50 | J8: =I8*汇总1!$V$40 -> 17.932839
A9: 7 | B9: 濉溪县 | C9: 种业院士、首席专家工作室建设 | D9: 安徽永民种业有限责任公司 | E9: 种业院士、首席专家工作室 ( 站 ) | G9: 50万元 | H9: 50 | I9: =H9 -> 50 | J9: =I9*汇总1!$V$40 -> 17.932839
A10: 8 | B10: 濉溪县 | C10: 种业院士、首席专家工作室建设 | D10: 安徽标王农牧股份有限公司 | E10: 种业院士、首席专家工作室 ( 站 ) | G10: 50万元 | H10: 50 | I10: =H10 -> 50 | J10: =I10*汇总1!$V$40 -> 17.932839
A11: 9 | B11: 濉溪县 | C11: 种业院士、首席专家工作室建设 | D11: 淮北农康农业科技有限公司 | E11: 种业院士、首席专家工作室 ( 站 ) | G11: 50万元 | H11: 50 | I11: =H11 -> 50 | J11: =I11*汇总1!$V$40 -> 17.932839
A12: 10 | B12: 濉溪县 | C12: 种业院士、首席专家工作室建设 | D12: 安徽柳丰种业科技有限责任公司 | E12: 种业院士、首席专家工作室 ( 站 ) | G12: 50万元 | H12: 50 | I12: =H12 -> 50 | J12: =I12*汇总1!$V$40 -> 17.932839
A13: 11 | B13: 濉溪县 | C13: 种业院士、首席专家工作室建设 | D13: 安徽盘石农业科技股份有限公司 | E13: 种业院士、首席专家工作室 ( 站 ) | G13: 50万元 | H13: 50 | I13: =H13 -> 50 | J13: =I13*汇总1!$V$40 -> 17.932839
A14: 12 | B14: 濉溪县 | C14: 种业院士、首席专家工作室建设 | D14: 濉溪县翔凤禽业有限责任公司 | E14: 种业院士、首席专家工作室 ( 站 ) | G14: 50万元 | H14: 50 | I14: =H14 -> 50 | J14: =I14*汇总1!$V$40 -> 17.932839
A15: 13 | B15: 濉溪县 | C15: 种业院士、首席专家工作室建设 | D15: 安徽牧腾农业科技发展有限公司 | E15: 种业院士、首席专家工作室 ( 站 ) | G15: 50万元 | H15: 50 | I15: =H15 -> 50 | J15: =I15*汇总1!$V$40 -> 17.932839
A16: 14 | B16: 相山区 | C16: 种业院士、首席专家工作室建设 | D16: 淮北校春文化旅游发展有限公司 | E16: 种业院士、首席专家工作室 ( 站 ) | G16: 50万元 | H16: 50 | I16: =H16 -> 50 | J16: =I16*汇总1!$V$40 -> 17.932839
B17: 合 计 | H17: =SUM(H3:H16) -> 700 | I17: =SUM(I3:I16) -> 700 | J17: =I17*汇总1!$V$40 -> 251.05974

Sheet 1-3.支持日光温室、钢构大棚和连动温室建设项目
A1: 支持日光温室、钢构大棚和连栋温室建设项目汇总表
A2: 序号 | B2: 县区 | C2: 项目名称 | D2: 实施单位 | E2: 财政支持内容 | F2: 建设面积（亩） | G2: 设施投资 （万元） | H2: 奖补标准 | I2: 县区审定奖补 金额（万元） | J2: 核查审定投资额（万元） | K2: 核查审定奖补 金额（万元） | L2: 发放金额（万元） | M2: 备注
A3: 1 | B3: 濉溪县 | C3: 支持设施农业发展 | D3: 濉溪县中华谷物种植家庭农场 | E3: 新建钢构大棚 | F3: 51.65 | G3: 70.79 | H3: 0.3 | I3: 21.24 | J3: =G3 -> 70.79 | K3: =I3 -> 21.24 | L3: =K3*汇总1!$V$40 -> 7.6178698
A4: 2 | B4: 濉溪县 | C4: 支持设施农业发展 | D4: 濉溪县世伟谷物种植专业合作社 | E4: 新建钢构大棚 | F4: 202 | G4: 239.3 | H4: 0.3 | I4: 71.79 | J4: =G4 -> 239.3 | K4: =I4 -> 71.79 | L4: =K4*汇总1!$V$40 -> 25.74797
A5: 3 | B5: 濉溪县 | C5: 支持设施农业发展 | D5: 濉溪县五沟蝶乐家庭农场 | E5: 新建钢构大棚 | F5: 140 | G5: 303.03 | H5: 0.3 | I5: 90.91 | J5: =G5 -> 303.03 | K5: =I5 -> 90.91 | L5: =K5*汇总1!$V$40 -> 32.605487
A6: 4 | B6: 濉溪县 | C6: 支持设施农业发展 | D6: 濉溪县五沟镇亚飞果蔬种植家庭农场 | E6: 新建温室连栋大棚 | F6: 20.01 | G6: 117.94 | H6: 0.3 | I6: 35.38 | J6: =G6 -> 117.94 | K6: 0 | L6: =K6*汇总1!$V$40 -> 0 | M6: 非连栋温室，核减
A7: 5 | B7: 濉溪县 | C7: 支持设施农业发展 | D7: 濉溪县四铺亿人种植家庭农场 | E7: 老旧设施农业基地进行改造升级 | F7: 204 | G7: 137.35 | H7: 0.1 | I7: 10 | J7: =G7 -> 137.35 | K7: 0 | L7: =K7*汇总1!$V$40 -> 0 | M7: 使用衔接资金，核减
A8: 6 | B8: 濉溪县 | C8: 支持设施农业发展 | D8: 濉溪县临涣天佑家庭农场 | E8: 新建钢构大棚 | F8: 50 | G8: 76.69 | H8: 0.3 | I8: 23 | J8: =G8 -> 76.69 | K8: =I8 -> 23 | L8: =K8*汇总1!$V$40 -> 8.2491058
A9: 7 | B9: 濉溪县 | C9: 支持设施农业发展 | D9: 濉溪县犇腾农牧科技有限公司 | E9: 新建钢构大棚 | F9: 210 | G9: 63.07 | H9: 0.3 | I9: 18.92 | J9: 63.07 | K9: =I9 -> 18.92 | L9: =K9*汇总1!$V$40 -> 6.7857861
A10: 8 | B10: 濉溪县 | C10: 支持设施农业发展 | D10: 濉溪县韩村罗义家庭农场 | E10: 新建钢构大棚 | F10: 100 | G10: 138.96 | H10: 0.3 | I10: 41.68 | J10: 138.96 | K10: =I10 -> 41.68 | L10: =K10*汇总1!$V$40 -> 14.948814
A11: 9 | B11: 杜集区 | C11: 设施农业发展奖补 | D11: 淮北市杜集区常 见家庭农场 | E11: 新建钢架大棚 | F11: 50.3 | G11: 486.3 | H11: 0.3 | I11: =G11*H11 -> 145.89 | J11: 486 | K11: 133.85 | L11: =K11*汇总1!$V$40 -> 48.006209 | M11: 申报中含税，核减税款
A12: 10 | B12: 杜集区 | C12: 支持设施农业发展 | D12: 淮北市杜集区锦 程家庭农场 | E12: 新建温室大棚 | F12: 80 | G12: 262 | H12: 0.3 | I12: 78.834 | J12: 262 | K12: =78.6 -> 78.6 | L12: =K12*汇总1!$V$40 -> 28.190422
A13: 11 | B13: 烈山区 | C13: 支持设施农业发展 | D13: 淮北市烈山区马场种植农民专业 合作社 | E13: 钢构大棚补贴 | F13: 80 | G13: 160.87 | H13: 0.3 | I13: 48.26 | J13: =G13 -> 160.87 | K13: 0 | L13: =K13*汇总1!$V$40 -> 0 | M13: 使用衔接资金，核销
A14: 12 | B14: 烈山区 | C14: 支持设施农业发展 | D14: 淮北市烈山区葡之家家庭农场 | E14: 新建大棚 | F14: 69 | G14: 146.21 | H14: 0.3 | I14: 43.86 | J14: =G14 -> 146.21 | K14: 10 | L14: =K14*汇总1!$V$40 -> 3.5865677 | M14: 24年为改建，按改建金额核定
A15: 13 | B15: 烈山区 | C15: 支持设施农业发展 | D15: 安徽兴丰绿港农业发展有限公司 | E15: 新建大棚 | F15: 263.25 | G15: 15766.08 | H15: 0.3 | I15: 200 | J15: =G15 -> 15766.08 | K15: =I15 -> 200 | L15: =K15*汇总1!$V$40 -> 71.731354
A16: 14 | B16: 烈山区 | C16: 支持设施农业发展 | D16: 淮北市烈山区古饶镇秦楼社区股份经济合作社 | E16: 维修改建大棚 | F16: 36.3 | G16: 31.4873 | H16: 0.1 | I16: 3.15 | J16: =G16 -> 31.4873 | K16: 0 | L16: =K16*汇总1!$V$40 -> 0 | M16: 已使用国家级、省级受灾补助资金等其他扶持政策，核销
A17: 15 | B17: 烈山区 | C17: 支持设施农业发展 | D17: 淮北市烈山区古饶金棚家庭农场 | E17: 维修改建大棚 | F17: 61.05 | G17: 116.5001 | H17: 0.1 | I17: 10 | J17: =G17 -> 116.5001 | K17: 0 | L17: =K17*汇总1!$V$40 -> 0 | M17: 已使用国家级、省级受灾补助资金等其他扶持政策，核销
A18: 16 | B18: 烈山区 | C18: 支持设施农业发展 | D18: 淮北市烈山区益民食用菌种植农民专业合作社 | E18: 维修改建大棚 | F18: 20.43 | G18: 11.402 | H18: 0.1 | I18: 1.14 | J18: =G18 -> 11.402 | K18: 0 | L18: =K18*汇总1!$V$40 -> 0 | M18: 已使用国家级、省级受灾补助资金等其他扶持政策，核销
A19: 17 | B19: 烈山区 | C19: 支持设施农业发展 | D19: 淮北市烈山区古饶博文家庭农场 | E19: 维修改建大棚 | F19: 21.7 | G19: 34.289 | H19: 0.1 | I19: 3.43 | J19: =G19 -> 34.289 | K19: 0 | L19: =K19*汇总1!$V$40 -> 0 | M19: 已使用国家级、省级受灾补助资金等其他扶持政策，核销
A20: 18 | B20: 烈山区 | C20: 支持设施农业发展 | D20: 淮北市烈山区古饶王颖家庭农场 | E20: 维修改建大棚 | F20: 25 | G20: 6.408 | H20: 0.1 | I20: 0.64 | J20: =G20 -> 6.408 | K20: 0 | L20: =K20*汇总1!$V$40 -> 0 | M20: 已使用国家级、省级受灾补助资金等其他扶持政策，核销
A21: 19 | B21: 烈山区 | C21: 支持设施农业发展 | D21: 淮北市烈山区初心种植农民专业 合作社 | E21: 新建大棚 | F21: 22.5 | G21: 248.14 | H21: 0.3 | I21: 74.44 | J21: =G21 -> 248.14 | K21: 0 | L21: =K21*汇总1!$V$40 -> 0 | M21: 使用衔接资金，核销
A22: 20 | B22: 烈山区 | C22: 支持设施农业发展 | D22: 淮北荣悦园农业发展有限公司 | E22: 维修改建大棚 | F22: 65 | G22: 121.16 | H22: 0.1 | I22: 10 | J22: =G22 -> 121.16 | K22: 0 | L22: =K22*汇总1!$V$40 -> 0 | M22: 使用衔接资金，建议核销
A23: 21 | B23: 相山区 | C23: 设施蔬菜大棚建设项目 | D23: 淮北市相山区张海洋家庭农场 | E23: 新建蔬菜钢构大棚 | F23: 70 | G23: 87.66 | H23: 0.3 | I23: 0 | J23: 0 | K23: 0 | L23: 0 | M23: 相山区审定时核减
A24: 22 | B24: 相山区 | C24: 设施蔬菜大棚建设项目 | D24: 淮北市相山区刘仁更家庭农场 | E24: 新建蔬菜钢构大棚 | F24: 85 | G24: 83.2299 | H24: 0.3 | I24: 0 | J24: 0 | K24: 0 | L24: 0 | M24: 相山区审定时核减
A25: 23 | B25: 相山区 | C25: 设施蔬菜大棚建设项目 | D25: 淮北市相山区徐海玲蔬菜种植家庭农场 | E25: 新建蔬菜钢构大棚 | F25: 70 | G25: 75.68 | H25: 0.3 | I25: 0 | J25: 0 | K25: 0 | L25: 0 | M25: 相山区审定时核减
A26: 24 | B26: 相山区 | C26: 设施蔬菜大棚建设项目 | D26: 淮北市相山区程晓雨家庭农场 | E26: 新建蔬菜钢构大棚 | F26: 62 | G26: 74.4198 | H26: 0.3 | I26: 0 | J26: 0 | K26: 0 | L26: 0 | M26: 相山区审定时核减
B27: 合 计 | I27: =SUM(I3:I22) -> 932.564 | K27: =SUM(K3:K22) -> 689.99 | L27: =K27*汇总1!$V$40 -> 247.46959

Sheet 1-4.支持机械化综合农事服务中心等建设
A1: 支持机械化综合农事服务中心等建设项目汇总表
A2: 序号 | B2: 县区 | C2: 项目名称 | D2: 实施单位 | E2: 审定投资额（万元） | F2: 奖补标准 | G2: 县区审定奖补 金额（万元） | H2: 核查审定奖补 金额（万元） | I2: 发放金额（万元）
A3: 1 | B3: 濉溪县 | C3: 支持机械化综合农事服务中心等建设 | D3: 濉溪县百善镇喜达乐丰谷物种植家庭农场 | E3: 171.09 | F3: 0.3 | H3: 50 | I3: =H3*汇总1!$V$40 -> 17.932839
A4: 2 | B4: 濉溪县 | C4: 支持机械化综合农事服务中心等建设 | D4: 濉溪县百善祥峰谷物种植家庭农场 | E4: 186 | F4: 0.3 | H4: 50 | I4: =H4*汇总1!$V$40 -> 17.932839
A5: 3 | B5: 濉溪县 | C5: 支持机械化综合农事服务中心等建设 | D5: 濉溪县百善小卫谷物种植家庭农场 | E5: 168.56 | F5: 0.3 | H5: 50 | I5: =H5*汇总1!$V$40 -> 17.932839
A6: 4 | B6: 濉溪县 | C6: 支持机械化综合农事服务中心等建设 | D6: 安徽晟全农业科技发展有限公司 | E6: 167.91 | F6: 0.3 | H6: 50 | I6: =H6*汇总1!$V$40 -> 17.932839
B7: 合 计 | G7: =SUM(G3:G6) -> 0 | H7: =SUM(H3:H6) -> 200 | I7: =SUM(I3:I6) -> 71.731354

Sheet 1-5.支持畜禽保种场
A1: 支持畜禽保种场项目汇总表
A2: 序号 | B2: 县区 | C2: 项目名称 | D2: 实施单位 | E2: 财政支持内容 | F2: 县区审定奖补 金额（万元） | G2: 核查审定奖补 金额（万元） | H2: 发放金额（万元）
A3: 1 | B3: 濉溪县 | C3: 支持禽畜保种场 | D3: 淮北市振淮农牧科技专业合作社 | E3: 省级畜禽 遗传资源 保护单位 | F3: 20 | G3: 20 | H3: =G3*汇总1!$V$40 -> 7.1731354
A4: 2 | B4: 濉溪县 | C4: 支持禽畜保种场 | D4: 濉溪县翔凤禽业有限责任公司 | E4: 省级畜禽 遗传资源 保护单位 | F4: 10 | G4: 10 | H4: =G4*汇总1!$V$40 -> 3.5865677
B5: 合 计 | F5: 30 | G5: =SUM(G3:G4) -> 30 | H5: =G5*汇总1!$V$40 -> 10.759703

Sheet 1-6.支持兽医社会化服务组织
A1: 支持兽医社会化服务组织项目汇总表
A2: 序号 | B2: 县区 | C2: 项目名称 | D2: 实施单位 | E2: 财政支持内容 | F2: 免疫数量 | G2: 奖补标准 | H2: 县区审定奖补 金额（万元） | I2: 核查审定奖补 金额（万元） | J2: 发放金额（万元）
A3: 1 | B3: 濉溪县 | C3: 支持兽医社 会化服务组 织 | D3: 淮北市康鑫养殖服务有限公司 | E3: 兽医社会化服务组织 | F3: 家禽1607189个、羊104157只、牛10511头 | G3: 0.1、0.5、2 | H3: 10 | I3: 10 | J3: =I3*汇总1!$V$40 -> 3.5865677
A4: 2 | B4: 杜集区 | C4: 支持兽医社 会化服务组 织 | D4: 淮北勇为农业发展有限公司 | E4: 兽医社会化 服务组织 | F4: 牛125头、羊3221只、家禽6073羽 | G4: 0.1、0.5、2 | H4: 0.24878 | I4: =H4 -> 0.24878 | J4: =I4/汇总1!$V$46*3000 -> 0.089226632
A5: 3 | B5: 杜集区 | C5: 支持兽医社 会化服务组 织 | D5: 淮北勇为农业发展有限公司 | E5: 兽医社会化 服务组织 | F5: 生猪570头、牛730头、羊4435只、家禽3120羽 | G5: 0.1、0.5、2 | H5: 0.444 | I5: =H5 -> 0.444 | J5: =I5/汇总1!$V$46*3000 -> 0.15924361
A6: 4 | B6: 杜集区 | C6: 支持兽医社 会化服务组 织 | D6: 淮北勇为农业发展有限公司 | E6: 兽医社会化 服务组织 | F6: 生猪1352头、牛439头、羊4222只、家禽30536羽 | G6: 0.1、0.5、2 | H6: 0.712 | I6: =H6 -> 0.712 | J6: =I6/汇总1!$V$46*3000 -> 0.25536362
B7: 合 计 | H7: =SUM(H3:H6) -> 11.40478 | I7: =SUM(I3:I6) -> 11.40478 | J7: =I7/汇总1!$V$46*3000 -> 4.0904016

Sheet 1-7.支持冷库、保鲜库建设
A1: 支持冷库、保鲜库建设项目汇总表
A2: 序号 | B2: 县区 | C2: 项目名称 | D2: 实施单位 | E2: 财政支持内容 | F2: 仓库容积（m³) | H2: 补贴标准（元/m³) | J2: 县区审定奖补 金额（万元） | K2: 审定容积（m³) | M2: 核查审定奖补 金额（万元） | N2: 发放金额（万元） | O2: 备注
F3: 保鲜库 | G3: 冷库 | H3: 保鲜库 补贴标准 | I3: 冷库补贴标准 | K3: 保鲜库 | L3: 冷库
A4: 1 | B4: 濉溪县 | C4: 支持冷库保 鲜库建设 | D4: 濉溪县陈大令家庭 农场 | E4: 冷库 | G4: 2231 | I4: 200 | J4: 44.62 | L4: =G4 -> 2231 | M4: =J4 -> 44.62 | N4: =M4*汇总1!$V$40 -> 16.003265
A5: 2 | B5: 濉溪县 | C5: 支持冷库保 鲜库建设 | D5: 安徽神华肉制品有限公司 | E5: 冷库、保鲜库 | F5: 1785.76 | G5: 733.41 | H5: 150 | I5: 200 | J5: 41.45 | K5: =F5 -> 1785.76 | L5: =G5 -> 733.41 | M5: =J5 -> 41.45 | N5: =M5*汇总1!$V$40 -> 14.866323
A6: 3 | B6: 濉溪县 | C6: 支持冷库保 鲜库建设 | D6: 中安信(淮北)食 品有限公司 | E6: 冷库、保鲜库 | F6: 11334.1 | G6: 1532 | H6: 150 | I6: 200 | J6: 200 | K6: =F6 -> 11334.1 | L6: =G6 -> 1532 | M6: =J6 -> 200 | N6: =M6*汇总1!$V$40 -> 71.731354
A7: 4 | B7: 濉溪县 | C7: 支持冷库保 鲜库建设 | D7: 濉溪县群龙谷物种 植专业合作社 | E7: 冷库 | G7: 1532 | I7: 200 | J7: 30.64 | L7: =G7 -> 1532 | M7: 28.5 | N7: =M7*汇总1!$V$40 -> 10.221718 | O7: 经现场测量核查冷库实际容积1425立方
A8: 5 | B8: 濉溪县 | C8: 支持冷库保 鲜库建设 | D8: 安徽省中瑞农副产 品有限责任公司 | E8: 冷库、保鲜库 | F8: 14900 | G8: 51100 | H8: 150 | I8: 200 | J8: 200 | K8: =F8 -> 14900 | L8: =G8 -> 51100 | M8: =J8 -> 200 | N8: =M8*汇总1!$V$40 -> 71.731354
A9: 6 | B9: 濉溪县 | C9: 支持冷库保 鲜库建设 | D9: 淮北华阳食品有限公司 | E9: 冷库 | G9: 1160 | I9: 200 | J9: 23.2 | L9: =G9 -> 1160 | M9: =J9 -> 23.2 | N9: =M9*汇总1!$V$40 -> 8.3208371
A10: 7 | B10: 濉溪县 | C10: 支持冷库保 鲜库建设 | D10: 淮北市群翔禽业有限公司 | E10: 冷库 | G10: 10393 | I10: 200 | J10: 200 | L10: =G10-673.08 -> 9719.92 | M10: =L10*I10/10000 -> 194.3984 | N10: =M10*汇总1!$V$40 -> 69.722303
A11: 8 | B11: 濉溪县 | C11: 支持冷库保 鲜库建设 | D11: 濉溪县四铺超林种 植家庭农场 | E11: 冷库 | G11: 4236.75 | I11: 200 | J11: 84.74 | L11: =G11 -> 4236.75 | M11: =J11 -> 84.74 | N11: =M11*汇总1!$V$40 -> 30.392575
A12: 9 | B12: 濉溪县 | C12: 支持冷库保 鲜库建设 | D12: 安徽省双杰食品有限公司 | E12: 冷库 | G12: 1373.99 | I12: 200 | J12: 27.48 | L12: =G12 -> 1373.99 | M12: =J12 -> 27.48 | N12: =M12*汇总1!$V$40 -> 9.8558881
A13: 10 | B13: 濉溪县 | C13: 支持冷库保 鲜库建设 | D13: 濉溪县发冉商贸有限公司 | E13: 冷库 | G13: 1056 | I13: 200 | J13: 21.12 | L13: =G13 -> 1056 | M13: =J13 -> 21.12 | N13: =M13*汇总1!$V$40 -> 7.574831
A14: 11 | B14: 濉溪县 | C14: 支持冷库保 鲜库建设 | D14: 濉溪县韩村红宇谷 物种植农场 | E14: 冷库 | G14: 1115.4 | I14: 200 | J14: 22.31 | L14: =G14 -> 1115.4 | M14: =J14 -> 22.31 | N14: =M14*汇总1!$V$40 -> 8.0016326
A15: 12 | B15: 濉溪县 | C15: 支持冷库保 鲜库建设 | D15: 濉溪县韩村宗保家庭农场 | E15: 冷库 | G15: 1656 | I15: 200 | J15: 33.12 | L15: =G15 -> 1656 | M15: =J15 -> 33.12 | N15: =M15*汇总1!$V$40 -> 11.878712
A16: 13 | B16: 濉溪县 | C16: 支持冷库保 鲜库建设 | D16: 淮北市红达食品有 限公司 | E16: 冷库、保鲜库 | F16: 2440.62 | G16: 2915.8 | H16: 150 | I16: 200 | J16: 94.9253 | K16: =F16 -> 2440.62 | L16: =G16 -> 2915.8 | M16: =J16 -> 94.9253 | N16: =M16*汇总1!$V$40 -> 34.045602
A17: 14 | B17: 杜集区 | C17: 支持冷库保 鲜库建设 | D17: 淮北市农翔农业发展有限公司 | E17: 支持冷库保鲜库建设 | G17: 1883.77 | H17: 150 | I17: 200 | J17: 37.68 | L17: 1883.77 | M17: =J17 -> 37.68 | N17: =M17/汇总1!$V$46*3000 -> 13.514187
A18: 15 | B18: 杜集区 | C18: 支持冷库保 鲜库建设 | D18: 淮北市天汇农业发展有限公司 | E18: 支持冷库保鲜库建设 | F18: 26796 | G18: 54228.8 | H18: 150 | I18: 200 | J18: 200 | K18: 26796 | L18: 54228.8 | M18: 0 | N18: =M18/汇总1!$V$46*3000 -> 0 | O18: 23年已申请，核减
A19: 16 | B19: 杜集区 | C19: 支持冷库保 鲜库建设 | D19: 淮北市杜集区文勇水产专业合作社 | E19: 支持冷库保鲜库建设 | G19: 1129.19 | H19: 150 | I19: 200 | J19: 22.58 | L19: 1129.19 | M19: 22.58 | N19: =M19/汇总1!$V$46*3000 -> 8.0984699
A20: 17 | B20: 烈山区 | C20: 支持冷库保 鲜库建设 | D20: 淮北市烈山区劝课农桑种植专业合作社 | E20: 冷库、保鲜库 | G20: 4247.54 | I20: 200 | J20: 84.95 | L20: 5082 | M20: =J20 -> 84.95 | N20: =M20/汇总1!$V$46*3000 -> 30.467893
A21: 18 | B21: 烈山区 | C21: 支持冷库保 鲜库建设 | D21: 淮北恒祺农业科技有限公司 | E21: 冷库、保鲜库 | G21: 17775.7 | I21: 200 | J21: 200 | L21: 10600 | M21: =J21 -> 200 | N21: =M21/汇总1!$V$46*3000 -> 71.731354
A22: 19 | B22: 相山区 | C22: 支持冷库保 鲜库建设 | D22: 淮北市相山区昊霖家庭农场 | E22: 支持冷库保鲜库建设 | G22: 10393.5 | I22: 200 | J22: 200 | L22: 10393.5 | M22: 0 | N22: =M22/汇总1!$V$46*3000 -> 0 | O22: 建设日期为25年，核减
A23: 20 | B23: 相山区 | C23: 支持冷库保 鲜库建设 | D23: 安徽家家悦供应链管理有限公司 | E23: 支持冷库保鲜库建设 | F23: 14000 | H23: 150 | J23: 200 | K23: 14000 | M23: =J23 -> 200 | N23: =M23/汇总1!$V$46*3000 -> 71.731354
A24: 21 | B24: 相山区 | C24: 支持冷库保 鲜库建设 | D24: 安徽贝宝食品有限公司 | E24: 支持冷库保鲜库建设 | F24: 2623 | G24: 8015 | H24: 150 | I24: 200 | J24: 199.65 | K24: 2623 | L24: 8015 | M24: =J24 -> 199.65 | N24: =M24/汇总1!$V$46*3000 -> 71.605825
B25: 合 计 | J25: =SUM(J4:J24) -> 2168.4653 | M25: =SUM(M4:M24) -> 1760.7237 | N25: =M25*汇总1!$V$40 -> 631.49548

Sheet 1-8.支持“淮优”专业协会开拓市场
A1: 支持“淮优”专业协会开拓市场项目汇总表
A2: 序号 | B2: 县区 | C2: 项目名称 | D2: 实施单位 | E2: 年销售 收入（万元） | F2: 会员 数量 | G2: 解决就业人数 | H2: 县区审定奖补 金额（万元） | I2: 核查审定奖补 金额（万元） | J2: 发放金额（万元）
A3: 1 | B3: 濉溪县 | C3: 支持“淮优”专业协会开拓市场 | D3: 淮北市淮优农产品甘薯产业协会 | E3: 8286.8 | F3: 115 | G3: 1880 | H3: 20 | I3: 20 | J3: =I3*汇总1!$V$40 -> 7.1731354
A4: 2 | B4: 濉溪县 | C4: 支持“淮优”专业协会开拓市场 | D4: 淮北市淮优农产品桃产业协会 | E4: 6300 | F4: 132 | H4: 20 | I4: 20 | J4: =I4*汇总1!$V$40 -> 7.1731354
A5: 3 | B5: 杜集区 | C5: 支持“淮优”专业协会开拓市场 | D5: 淮北市淮优农产品葡萄产业协会 | E5: 5008.9 | F5: 102 | H5: 20 | I5: 20 | J5: =I5/汇总1!$V$46*3000 -> 7.1731354
A6: 4 | B6: 杜集区 | C6: 支持“淮优”专业协会开拓市场 | D6: 淮北市淮 优农产品 渔业协会 | E6: 7538 | F6: 125 | H6: 20 | I6: =H6 -> 20 | J6: =I6/汇总1!$V$46*3000 -> 7.1731354
A7: 5 | B7: 烈山区 | C7: 支持“淮优”专业协会开拓市场 | D7: 淮北市绿色食品行业协会 | H7: 20 | I7: 20 | J7: =I7*汇总1!$V$40 -> 7.1731354
A8: 6 | B8: 相山区 | C8: 支持“淮优”专业协会开拓市场 | D8: 淮北市淮优农产品蔬菜产业协会 | E8: 6650 | F8: 102 | G8: 1200 | H8: 20 | I8: 20 | J8: =I8*汇总1!$V$40 -> 7.1731354
A9: 合 计 | H9: =SUM(H3:H8) -> 120 | I9: =SUM(I3:I8) -> 120 | J9: =SUM(J3:J8) -> 43.038813

Sheet 1-9.支持三品一标和名牌农产品建设
A1: 支持三品一标和名牌农产品建设
A2: 序号 | B2: 县区 | C2: 项目名称 | D2: 实施单位 | E2: 财政支持内容 | F2: 县区审定奖补 金额（万元） | G2: 核查审定奖补 金额（万元） | H2: 发放金额（万元） | I2: 备注
A3: 1 | B3: 濉溪县 | C3: 支持三品一标和名牌农产品建设 | D3: 濉溪县徽祥家庭农场 | E3: 绿色食品生姜、玉米、烟薯25甘薯、西瓜红甘薯、苏薯303认证奖补 | F3: 15 | G3: =F3 -> 15 | H3: =G3*汇总1!$V$40 -> 5.3798516
A4: 2 | B4: 濉溪县 | C4: 支持三品一标和名牌农产品建设 | D4: 濉溪县周为权家庭农场 | E4: 绿色食品小麦认证奖补 | F4: 3 | G4: =F4 -> 3 | H4: =G4*汇总1!$V$40 -> 1.0759703
A5: 3 | B5: 濉溪县 | C5: 支持三品一标和名牌农产品建设 | D5: 濉溪县韩村李言谷物种植家庭农场 | E5: 绿色食品淮麦33小麦认证奖补 | F5: 3 | G5: =F5 -> 3 | H5: =G5*汇总1!$V$40 -> 1.0759703
A6: 4 | B6: 濉溪县 | C6: 支持三品一标和名牌农产品建设 | D6: 濉溪县恒乾果蔬种植家庭农场 | E6: 绿色食品8424西瓜、美都西瓜、薄皮辣椒、杭椒认证奖补 | F6: 12 | G6: =F6 -> 12 | H6: =G6*汇总1!$V$40 -> 4.3038813
A7: 5 | B7: 濉溪县 | C7: 支持三品一标和名牌农产品建设 | D7: 濉溪县黄占文蔬菜种植家庭农场 | E7: 绿色食品小麦认证奖补 | F7: 3 | G7: =F7 -> 3 | H7: =G7*汇总1!$V$40 -> 1.0759703
A8: 6 | B8: 濉溪县 | C8: 支持三品一标和名牌农产品建设 | D8: 濉溪县恒乾果蔬种植家庭农场 | E8: “皖美农品”省级农产品品牌建设 | F8: 10 | G8: =F8 -> 10 | H8: =G8*汇总1!$V$40 -> 3.5865677
A9: 7 | B9: 濉溪县 | C9: 支持三品一标和名牌农产品建设 | D9: 安徽牧腾农业科技发展有限公司 | E9: 绿色食品皖临山羊肉、黄准山羊肉认证奖补 | F9: 6 | G9: =F9 -> 6 | H9: =G9*汇总1!$V$40 -> 2.1519406
A10: 8 | B10: 濉溪县 | C10: 支持三品一标和名牌农产品建设 | D10: 濉溪县临涣益林果蔬种植专业合作社 | E10: “皖美农品”省级农产品品牌建设 | F10: 10 | G10: =F10 -> 10 | H10: =G10*汇总1!$V$40 -> 3.5865677
A11: 9 | B11: 濉溪县 | C11: 支持三品一标和名牌农产品建设 | D11: 濉溪县泽丰果树种植专业合作社 | E11: 绿色食品中油蟠9号桃.中桃9号桃、黄金蜜1号桃、黄金蜜4号桃认证奖补 | F11: 12 | G11: =F11 -> 12 | H11: =G11*汇总1!$V$40 -> 4.3038813
A12: 10 | B12: 濉溪县 | C12: 支持三品一标和名牌农产品建设 | D12: 濉溪县秀英家庭农场 | E12: 绿色食品伟隆169小麦认证奖补 | F12: 3 | G12: =F12 -> 3 | H12: =G12*汇总1!$V$40 -> 1.0759703
A13: 11 | B13: 濉溪县 | C13: 支持三品一标和名牌农产品建设 | D13: 濉溪县韩村依冉家庭农场 | E13: 绿色食品小麦认证奖补 | F13: 3 | G13: =F13 -> 3 | H13: =G13*汇总1!$V$40 -> 1.0759703
A14: 12 | B14: 濉溪县 | C14: 支持三品一标和名牌农产品建设 | D14: 濉溪县月芝家庭农场 | E14: 绿色食品玉米认证奖补 | F14: 3 | G14: =F14 -> 3 | H14: =G14*汇总1!$V$40 -> 1.0759703
... A37: 35 | B37: 濉溪县 | C37: 支持三品一标和名牌农产品建设 | D37: 濉溪县心圣家庭农场 | E37: 绿色食品柳丰618小麦认证奖补 | F37: 3 | G37: =F37 -> 3 | H37: =G37*汇总1!$V$40 -> 1.0759703
A38: 36 | B38: 杜集区 | C38: 支持三品一标和名牌农产品建设 | D38: 淮北市杜集区润丰种植专业合作社 | E38: 绿色食品秋之实桃 | F38: 2 | G38: 3 | H38: =G38*汇总1!$V$40 -> 1.0759703 | I38: 绿色食品奖补3万元
A39: 37 | B39: 杜集区 | C39: 支持三品一标和名牌农产品建设 | D39: 淮北市石台金禾家庭农场 | E39: 绿色食品8424西瓜 | F39: 3 | G39: =F39 -> 3 | H39: =G39*汇总1!$V$40 -> 1.0759703
A40: 38 | B40: 杜集区 | C40: 支持三品一标和名牌农产品建设 | D40: 淮北市杜集区鲜丰家庭农场 | E40: 绿色食品粤田水果玉米、农科糯玉米、花糯玉米、白金玉米 | F40: 12 | G40: =F40 -> 12 | H40: =G40*汇总1!$V$40 -> 4.3038813
A41: 39 | B41: 杜集区 | C41: 支持三品一标和名牌农产品建设 | D41: 淮北市天 悦农业科 技专业合 作社 | E41: 绿色食品葡萄、番茄、西瓜 | F41: 9 | G41: =F41 -> 9 | H41: =G41*汇总1!$V$40 -> 3.2279109
A42: 40 | B42: 杜集区 | C42: 支持三品一标和名牌农产品建设 | D42: 淮北市杜 集区顺利 家庭农场 | E42: 绿色食品粤田水果玉米、农科糯玉米、花糯玉米、白金玉米 | F42: 12 | G42: =F42 -> 12 | H42: =G42*汇总1!$V$40 -> 4.3038813
A43: 41 | B43: 杜集区 | C43: 支持三品一标和名牌农产品建设 | D43: 淮北市杜 集区石台 镇团结家 庭农场 | E43: 绿色食品醉金香葡萄、夏黑葡萄、绿宝石甜瓜、羊角蜜甜瓜、阳光玫瑰葡萄 | F43: 15 | G43: =F43 -> 15 | H43: =G43*汇总1!$V$40 -> 5.3798516
A44: 42 | B44: 杜集区 | C44: 支持三品一标和名牌农产品建设 | D44: 淮北市学 田里农民 专业合作 社 | E44: 绿色食品酥梨、苏翠一号（梨） | F44: 6 | G44: =F44 -> 6 | H44: =G44*汇总1!$V$40 -> 2.1519406
A45: 43 | B45: 杜集区 | C45: 支持三品一标和名牌农产品建设 | D45: 淮北市杜集区石台镇开心家庭农场 | E45: 绿色食品梨、苹果 | F45: 6 | G45: =F45 -> 6 | H45: =G45*汇总1!$V$40 -> 2.1519406
A46: 44 | B46: 杜集区 | C46: 支持三品一标和名牌农产品建设 | D46: 淮北市杜 集区假日 阳光家庭 农场 | E46: 绿色食品假日阳光夏黑葡萄、心愿葡萄、阳光玫瑰普通、妮娜皇后葡萄 | F46: 12 | G46: =F46 -> 12 | H46: =G46*汇总1!$V$40 -> 4.3038813
A47: 45 | B47: 杜集区 | C47: 支持三品一标和名牌农产品建设 | D47: 淮北市杜 集区北山 青家庭农 场 | E47: 绿色食品圣诞红草莓、淮丰语夏黑葡萄、阳光玫瑰葡萄、香野草莓 | F47: 12 | G47: =F47 -> 12 | H47: =G47*汇总1!$V$40 -> 4.3038813
A48: 46 | B48: 杜集区 | C48: 支持三品一标和名牌农产品建设 | D48: 淮北市杜集区朔悦农业专业合作社 | E48: 绿色食品浙江1号茭白、浙江6号（茭白）、浙江8号（茭白） | F48: 9 | G48: =F48 -> 9 | H48: =G48*汇总1!$V$40 -> 3.2279109
A49: 47 | B49: 杜集区 | C49: 支持三品一标和名牌农产品建设 | D49: 淮北市杜集区 泛华种植家庭 农场 | E49: 皖美农品 | F49: 10 | G49: =F49 -> 10 | H49: =G49*汇总1!$V$40 -> 3.5865677
A50: 48 | B50: 杜集区 | C50: 支持三品一标和名牌农产品建设 | D50: 淮北市杜集区润丰种植专业合作社 | E50: 皖美农品 | F50: 10 | G50: =F50 -> 10 | H50: =G50*汇总1!$V$40 -> 3.5865677
... A52: 50 | B52: 烈山区 | C52: 支持三品一标和名牌农产品建设 | D52: 淮北市烈山区金地源农民专业合作社 | E52: 绿色食品：中油4号油桃、突围水蜜桃、中油18号油桃、早红水蜜桃 | F52: 12 | G52: =F52 -> 12 | H52: =G52*汇总1!$V$40 -> 4.3038813
A53: 51 | B53: 烈山区 | C53: 支持三品一标和名牌农产品建设 | D53: 淮北恒祺农业科技有限公司 | E53: 有机农产品：大豆 | F53: 2 | G53: 0 | H53: =G53*汇总1!$V$40 -> 0 | I53: 仅限农业农村部门归口的北京中绿华夏有机产品认证中心认证产品享受奖补，核销
A54: 52 | B54: 烈山区 | C54: 支持三品一标和名牌农产品建设 | D54: 淮北市烈山区古饶天艺家庭农场 | E54: 有机农产品：玉米 | F54: 2 | G54: 0 | H54: =G54*汇总1!$V$40 -> 0 | I54: 仅限农业农村部门归口的北京中绿华夏有机产品认证中心认证产品享受奖补，核销
A55: 53 | B55: 烈山区 | C55: 支持三品一标和名牌农产品建设 | D55: 淮北市烈山区华地金源家庭农场 | E55: 绿色食品：高粱 | F55: 3 | G55: 3 | H55: =G55*汇总1!$V$40 -> 1.0759703
A56: 54 | B56: 烈山区 | C56: 支持三品一标和名牌农产品建设 | D56: 淮北市烈山区古饶三鑫家庭农场 | E56: 绿色食品：高粱 | F56: 3 | G56: 3 | H56: =G56*汇总1!$V$40 -> 1.0759703
A57: 55 | B57: 烈山区 | C57: 支持三品一标和名牌农产品建设 | D57: 淮北市烈山区古饶王颖家庭农场 | E57: 绿色食品：锦香黄桃、毛蟠13桃、油 蟠7-7桃，锦春黄桃 | F57: 12 | G57: 12 | H57: =G57*汇总1!$V$40 -> 4.3038813
A58: 56 | B58: 烈山区 | C58: 支持三品一标和名牌农产品建设 | D58: 淮北市烈山区古饶镇新家园三农服务农民专业合作社 | E58: 有机农产品：大豆、玉米 | F58: 2 | G58: 0 | H58: =G58*汇总1!$V$40 -> 0 | I58: 仅限农业农村部门归口的北京中绿华夏有机产品认证中心认证产品享受奖补，核销
A59: 57 | B59: 烈山区 | C59: 支持三品一标和名牌农产品建设 | D59: 淮北市烈山区果美家庭农场 | E59: 绿色食品：红灯樱桃、美早大樱桃 | F59: 6 | G59: 6 | H59: =G59*汇总1!$V$40 -> 2.1519406
A60: 58 | B60: 烈山区 | C60: 支持三品一标和名牌农产品建设 | D60: 淮北盛景农业科技有限公司 | E60: 绿色食品：纽扣红蟠桃、黄金蟠桃、 春雪桃、黄金蜜油桃、中油16号油桃 | F60: 15 | G60: 15 | H60: =G60*汇总1!$V$40 -> 5.3798516
A61: 59 | B61: 烈山区 | C61: 支持三品一标和名牌农产品建设 | D61: 淮北市烈山区古饶李爱华家庭农场 | E61: 绿色食品：玉米 | F61: 3 | G61: 3 | H61: =G61*汇总1!$V$40 -> 1.0759703
A62: 60 | B62: 烈山区 | C62: 支持三品一标和名牌农产品建设 | D62: 淮北市郁翠林黄灵枣农民专业合作社 | E62: 皖美农品“郁翠林”牌黄营灵枣 | F62: 10 | G62: 10 | H62: =G62*汇总1!$V$40 -> 3.5865677
A63: 61 | B63: 烈山区 | C63: 支持三品一标和名牌农产品建设 | D63: 淮北市烈山区初心种植农民专业合作社 | E63: 绿色食品：大红火龙果、秋月梨、黄冠梨、黄龙火龙果 | F63: 12 | G63: 12 | H63: =G63*汇总1!$V$40 -> 4.3038813
...

Sheet 1-10.支持参加农产品展示展销活动
A1: 支持参加农产品展示展销活动项目汇总表
A2: 序号 | B2: 县区 | C2: 项目名称 | D2: 实施单位 | E2: 财政支持内容 | F2: 县区审定奖补 金额（万元） | G2: 核查审定奖补 金额（万元） | H2: 发放金额（万元） | I2: 备注
A3: 1 | B3: 濉溪县 | C3: 第二十一届中国国际农产品 交易会(广州) | D3: 淮北市华瑞面粉有限公司 | E3: 支持参加农产品展示展销活动 | F3: 1 | G3: =F3 -> 1 | H3: =G3*汇总1!$V$40 -> 0.35865677
A4: 2 | B4: 濉溪县 | C4: 第二十一届中国国际农产品 交易会(广州) | D4: 濉溪县沐梵生态农业科技有限公司 | E4: 支持参加农产品展示展销活动 | F4: 1 | G4: =F4 -> 1 | H4: =G4*汇总1!$V$40 -> 0.35865677
A5: 3 | B5: 濉溪县 | C5: 第二十一届中国国际农产品 交易会(广州) | D5: 安徽昊晨食品股份有限公司 | E5: 支持参加农产品展示展销活动 | F5: 1 | G5: =F5 -> 1 | H5: =G5*汇总1!$V$40 -> 0.35865677
A6: 4 | B6: 濉溪县 | C6: 淮北市食品和餐饮企业合作 对接活动 | D6: 安徽神华肉制品有限公司 | E6: 支持参加农产品展示展销活动 | F6: 0.2 | G6: =F6 -> 0.2 | H6: =G6*汇总1!$V$40 -> 0.071731354
A7: 5 | B7: 濉溪县 | C7: 第十四届中国国际薯业博览会 | D7: 安徽牧腾农业科技发展有限公司 | E7: 支持参加农产品展示展销活动 | F7: 1 | G7: =F7 -> 1 | H7: =G7*汇总1!$V$40 -> 0.35865677
A8: 6 | B8: 濉溪县 | C8: 1.第十四届中国国际薯业博览会 2.淮北市食品和餐饮企业合作对接会 | D8: 淮北市淮优农产品甘薯产业协会 | E8: 支持参加农产品展示展销活动 | F8: 1.2 | G8: 0 | H8: =G8*汇总1!$V$40 -> 0 | I8: 协会不能作为申报单位，由参展主体申报。
A9: 7 | B9: 濉溪县 | C9: 淮北市2024年“中国农民丰收节” | D9: 濉溪县双堆进步家庭农场 | E9: 支持参加农产品展示展销活动 | F9: 0.2 | G9: =F9 -> 0.2 | H9: =G9*汇总1!$V$40 -> 0.071731354
A10: 8 | B10: 濉溪县 | C10: 淮北市食品和餐饮企业合作对接会 | D10: 中安信(淮北)食品有限公司 | E10: 支持参加农产品展示展销活动 | F10: 0.2 | G10: =F10 -> 0.2 | H10: =G10*汇总1!$V$40 -> 0.071731354
A11: 9 | B11: 濉溪县 | C11: 2024安徽秸秆暨畜禽养殖废弃物综合利用产品博览会 | D11: 濉溪县马品秸秆机械化回收专业合作社 | E11: 支持参加农产品展示展销活动 | F11: 0.5 | G11: =F11 -> 0.5 | H11: =G11*汇总1!$V$40 -> 0.17932839
A12: 10 | B12: 濉溪县 | C12: 2024安徽秸秆暨畜禽养殖废弃物综合利用产品博览会 | D12: 安徽牧腾农业科技发展有限公司 | E12: 支持参加农产品展示展销活动 | F12: 2.5 | G12: =F12 -> 2.5 | H12: =G12*汇总1!$V$40 -> 0.89664193
A13: 11 | B13: 濉溪县 | C13: 2024安徽秸秆暨畜禽养殖废弃物综合利用产品博览会 | D13: 濉溪县恒丰水稻种植家庭农场 | E13: 支持参加农产品展示展销活动 | F13: 0.5 | G13: =F13 -> 0.5 | H13: =G13*汇总1!$V$40 -> 0.17932839
A14: 12 | B14: 濉溪县 | C14: 第十六届中国国际种业博览 会暨第二十一届全国种子信息交流与产品交易会 | D14: 安徽民研农业科技有限公司 | E14: 支持参加农产品展示展销活动 | F14: 1 | G14: =F14 -> 1 | H14: =G14*汇总1!$V$40 -> 0.35865677
A15: 13 | B15: 濉溪县 | C15: 第十六届中国国际种业博览 会暨第二十一届全国种子信息交流与产品交易会 | D15: 安徽永民种业有限责任公司 | E15: 支持参加农产品展示展销活动 | F15: 1 | G15: =F15 -> 1 | H15: =G15*汇总1!$V$40 -> 0.35865677
A16: 14 | B16: 濉溪县 | C16: 淮北市2024年“中国农民丰收节” | D16: 安徽永民种业有限责任公司 | E16: 支持参加农产品展示展销活动 | F16: 0.2 | G16: =F16 -> 0.2 | H16: =G16*汇总1!$V$40 -> 0.071731354
A17: 15 | B17: 濉溪县 | C17: 第十六届中国国际种业博览 会暨第二十一届全国种子信息交流与产品交易会 | D17: 濉溪县双丰种业有限责任公司 | E17: 支持参加农产品展示展销活动 | F17: 1 | G17: =F17 -> 1 | H17: =G17*汇总1!$V$40 -> 0.35865677
A18: 16 | B18: 濉溪县 | C18: 淮北市食品和餐饮企业合作对接会 | D18: 濉溪县刘桥滋润苗木种植家庭农场 | E18: 支持参加农产品展示展销活动 | F18: 0.2 | G18: =F18 -> 0.2 | H18: =G18*汇总1!$V$40 -> 0.071731354
A19: 17 | B19: 濉溪县 | C19: 2024安徽秸秆暨畜禽养殖废弃物综合利用产品博览会 | D19: 淮北市金之田食品科技有限公司 | E19: 支持参加农产品展示展销活动 | F19: 0.5 | G19: =F19 -> 0.5 | H19: =G19*汇总1!$V$40 -> 0.17932839
A20: 18 | B20: 濉溪县 | C20: 2024年长三角绿色优质农产品推广周 | D20: 淮北市金之田食品科技有限公司 | E20: 支持参加农产品展示展销活动 | F20: 0.5 | G20: =F20 -> 0.5 | H20: =G20*汇总1!$V$40 -> 0.17932839
... A22: 20 | B22: 濉溪县 | C22: 2024浙江农业博览会 | D22: 淮北市金之田食品科技有限公司 | E22: 支持参加农产品展示展销活动 | F22: 0.5 | G22: =F22 -> 0.5 | H22: =G22*汇总1!$V$40 -> 0.17932839
A23: 21 | B23: 濉溪县 | C23: 2024浙江农业博览会金奖 | D23: 淮北市金之田食品科技有限公司 | E23: 支持参加农产品展示展销活动 | F23: 2 | G23: 2 | H23: =G23*汇总1!$V$40 -> 0.71731354
A24: 22 | B24: 濉溪县 | C24: “投资安徽行”一皖北绿色 食品产业集群“肉牛产业” 专题推介活动 | D24: 安徽华安丰食品有限公司 | E24: 支持参加农产品展示展销活动 | F24: 0.5 | G24: =F24 -> 0.5 | H24: =G24*汇总1!$V$40 -> 0.17932839
A25: 23 | B25: 濉溪县 | C25: 淮北市2024年“中国农民丰收节” | D25: 安徽华安丰食品有限公司 | E25: 支持参加农产品展示展销活动 | F25: 0.2 | G25: =F25 -> 0.2 | H25: =G25*汇总1!$V$40 -> 0.071731354
A26: 24 | B26: 濉溪县 | C26: 淮北市2024年“中国农民丰收节” | D26: 濉溪县四铺亿人种植家庭农场 | E26: 支持参加农产品展示展销活动 | F26: 0.2 | G26: =F26 -> 0.2 | H26: =G26*汇总1!$V$40 -> 0.071731354
A27: 25 | B27: 濉溪县 | C27: 淮北市2024年“中国农民丰收节” | D27: 濉溪县四铺绿色家庭农场 | E27: 支持参加农产品展示展销活动 | F27: 0.2 | G27: =F27 -> 0.2 | H27: =G27*汇总1!$V$40 -> 0.071731354
A28: 26 | B28: 濉溪县 | C28: 淮北市2024年“中国农民丰收节” | D28: 安徽牧腾农业科技发展有限公司 | E28: 支持参加农产品展示展销活动 | F28: 0.2 | G28: =F28 -> 0.2 | H28: =G28*汇总1!$V$40 -> 0.071731354
A29: 27 | B29: 濉溪县 | C29: 淮北市2024年“中国农民丰收节” | D29: 濉溪县世伟谷物种植专业合作社 | E29: 支持参加农产品展示展销活动 | F29: 0.2 | G29: =F29 -> 0.2 | H29: =G29*汇总1!$V$40 -> 0.071731354
A30: 28 | B30: 濉溪县 | C30: 淮北市2024年“中国农民丰收节” | D30: 濉溪县鲁王制粉有限责任公司 | E30: 支持参加农产品展示展销活动 | F30: 0.2 | G30: =F30 -> 0.2 | H30: =G30*汇总1!$V$40 -> 0.071731354
A31: 29 | B31: 濉溪县 | C31: 淮北市2024年“中国农民丰收节” | D31: 安徽神华肉制品有限公司 | E31: 支持参加农产品展示展销活动 | F31: 0.2 | G31: =F31 -> 0.2 | H31: =G31*汇总1!$V$40 -> 0.071731354
A32: 30 | B32: 濉溪县 | C32: 淮北市2024年“中国农民丰收节” | D32: 濉溪县稼旺果蔬种植专业合作社 | E32: 支持参加农产品展示展销活动 | F32: 0.2 | G32: =F32 -> 0.2 | H32: =G32*汇总1!$V$40 -> 0.071731354
A33: 31 | B33: 濉溪县 | C33: 淮北市食品和餐饮企业合作对接会 | D33: 淮北旭源食品有限公司 | E33: 支持参加农产品展示展销活动 | F33: 0.2 | G33: =F33 -> 0.2 | H33: =G33*汇总1!$V$40 -> 0.071731354
A34: 32 | B34: 濉溪县 | C34: 淮北市食品和餐饮企业合作对接会 | D34: 濉溪县鲁王制粉有限责任公司 | E34: 支持参加农产品展示展销活动 | F34: 0.2 | G34: =F34 -> 0.2 | H34: =G34*汇总1!$V$40 -> 0.071731354
A35: 33 | B35: 濉溪县 | C35: 淮北市食品和餐饮企业合作对接会 | D35: 安徽昊晨食品股份有限公司 | E35: 支持参加农产品展示展销活动 | F35: 0.2 | G35: =F35 -> 0.2 | H35: =G35*汇总1!$V$40 -> 0.071731354
... A54: 52 | B54: 濉溪县 | C54: 2024年中国农民丰收节-江淮农耕文化展暨青少年农耕文化教育实践活动 | D54: 安徽翔东文化传媒有限公司 | E54: 支持参加农产品展示展销活动 | F54: 0.5 | G54: =F54 -> 0.5 | H54: =G54*汇总1!$V$40 -> 0.17932839
A55: 53 | B55: 濉溪县 | C55: 2023年中国农民丰收节全 国主场活动“展丰收 · 中国农耕文化展”非遗互动体验活动 | D55: 安徽翔东文化传媒有限公司 | E55: 支持参加农产品展示展销活动 | F55: 1 | G55: 0 | H55: =G55*汇总1!$V$40 -> 0 | I55: 2023年活动核销
A56: 54 | B56: 濉溪县 | C56: 全国粮油和大豆产业博览会 | D56: 安徽永民种业有限责任公司 | E56: 支持参加农产品展示展销活动 | F56: 1 | G56: =F56 -> 1 | H56: =G56*汇总1!$V$40 -> 0.35865677
A57: 55 | B57: 濉溪县 | C57: 全国粮油和大豆产业博览会 | D57: 安徽民研农业科技有限公司 | E57: 支持参加农产品展示展销活动 | F57: 1 | G57: =F57 -> 1 | H57: =G57*汇总1!$V$40 -> 0.35865677
A58: 56 | B58: 濉溪县 | C58: 淮北市2024年“中国农民丰收节” | D58: 淮北旭源食品有限公司 | E58: 支持参加农产品展示展销活动 | F58: 0.2 | G58: 0.2 | H58: =G58*汇总1!$V$40 -> 0.071731354
A59: 57 | B59: 濉溪县 | C59: 淮北市2024年“中国农民丰收节” | D59: 安徽昊晨食品股份有限公司 | E59: 支持参加农产品展示展销活动 | F59: 0.2 | G59: =F59 -> 0.2 | H59: =G59*汇总1!$V$40 -> 0.071731354
...

Sheet 1-11.支持农业产业化重点龙头企业
A1: 支持农业产业化重点龙头企业项目汇总表
A2: 序号 | B2: 县区 | C2: 项目名称 | D2: 实施单位 | E2: 财政支持内容 | F2: 县区审定奖补 金额（万元） | G2: 核查审定奖补 金额（万元） | H2: 发放金额（万元）
A3: 1 | B3: 濉溪县 | C3: 支持农业产业化龙头企业 | D3: 安徽昊晨食品股份有限公司 | E3: 农业产业化国家级重点龙头企业奖补 | F3: 50 | G3: 50 | H3: =G3*汇总1!$V$40 -> 17.932839
A4: 合 计 | F4: =SUM(F3:F3) -> 50 | G4: =SUM(G3:G3) -> 50 | H4: =G4*汇总1!$V$40 -> 17.932839

Sheet 1-12.支持农业产业化家庭农场
A1: 支持农业产业化家庭农场项目汇总表
A2: 序号 | B2: 县区 | C2: 项目名称 | D2: 实施单位 | E2: 财政支持内容 | F2: 县区审定奖补 金额（万元） | G2: 核查审定奖补 金额（万元） | H2: 发放金额（万元）
A3: 1 | B3: 濉溪县 | C3: 农业产业化家庭农场 | D3: 濉溪县孙曈牛雪梅 家庭农场 | E3: 省级生态农场奖补 | F3: 10 | G3: =F3 -> 10 | H3: =G3*汇总1!$V$40 -> 3.5865677
A4: 2 | B4: 濉溪县 | C4: 农业产业化家庭农场 | D4: 濉溪县百善欣雨谷 物种植家庭农场 | E4: 省级生态农场奖补 | F4: 10 | G4: =F4 -> 10 | H4: =G4*汇总1!$V$40 -> 3.5865677
A5: 3 | B5: 濉溪县 | C5: 农业产业化家庭农场 | D5: 淮北市金之田食品 科技有限公司 | E5: 省级生态农场奖补 | F5: 10 | G5: =F5 -> 10 | H5: =G5*汇总1!$V$40 -> 3.5865677
A6: 4 | B6: 濉溪县 | C6: 农业产业化家庭农场 | D6: 濉溪县益林生态家庭农场 | E6: 省级生态农场奖补 | F6: 10 | G6: =F6 -> 10 | H6: =G6*汇总1!$V$40 -> 3.5865677
A7: 5 | B7: 濉溪县 | C7: 农业产业化家庭农场 | D7: 濉溪县临涣陈令民 家庭农场 | E7: 省级生态农场奖补 | F7: 10 | G7: =F7 -> 10 | H7: =G7*汇总1!$V$40 -> 3.5865677
A8: 6 | B8: 濉溪县 | C8: 农业产业化家庭农场 | D8: 淮北市曦强生态奶 牛养殖有限公司 | E8: 省级生态农场奖补 | F8: 10 | G8: =F8 -> 10 | H8: =G8*汇总1!$V$40 -> 3.5865677
A9: 7 | B9: 烈山区 | C9: 农业产业化家庭农场 | D9: 淮北市烈山区政祥家庭农场 | E9: 2024年获评“省级生态家庭农场 | F9: 10 | G9: =F9 -> 10 | H9: =G9*汇总1!$V$40 -> 3.5865677
B10: 合计 | F10: =SUM(F3:F9) -> 70 | G10: =SUM(G3:G9) -> 70 | H10: =SUM(H3:H9) -> 25.105974

Sheet 1-13.支持农业产业化合作社
A1: 支持农业产业化合作社项目汇总表
A2: 序号 | B2: 县区 | C2: 项目名称 | D2: 实施单位 | E2: 财政支持内容 | F2: 县区审定奖补 金额（万元） | G2: 核查审定奖补 金额（万元） | H2: 发放金额（万元）
A3: 1 | B3: 濉溪县 | C3: 支持农业产业化合作社 | D3: 濉溪县田丰农机服务专业合作社 | E3: 国家级农民合作社奖补 | F3: 50 | G3: =F3 -> 50 | H3: =G3*汇总1!$V$40 -> 17.932839
B4: 合 计 | F4: =SUM(F3:F3) -> 50 | G4: =SUM(G3:G3) -> 50 | H4: =G4*汇总1!$V$40 -> 17.932839

Sheet 1-14.支持“淮优”农产品主体
A1: 支持“淮优”农产品生产主体汇总表
A2: 序号 | B2: 县区 | C2: 项目名称 | D2: 实施单位 | E2: 财政支持内容 | F2: 申请财政资金（万元） | G2: 核查审定奖补金额（万元） | H2: 发放金额（万元） | I2: 备注
A3: 1 | B3: 濉溪县 | C3: 支持“淮优”农产品生产主体 | D3: 濉溪县孙疃候永勤家庭农场 | E3: 支持“淮优”农产品生产主体 | F3: 2 | G3: 2 | H3: =G3*汇总1!$V$40 -> 0.71731354
A4: 2 | B4: 濉溪县 | C4: 支持“淮优”农产品生产主体 | D4: 濉溪县双堆进步家庭农场 | E4: 支持“淮优”农产品生产主体 | F4: 2 | G4: 2 | H4: =G4*汇总1!$V$40 -> 0.71731354
A5: 3 | B5: 濉溪县 | C5: 支持“淮优”农产品生产主体 | D5: 濉溪县城北凯莉食用菌种植家庭农场 | E5: 支持“淮优”农产品生产主体 | F5: 2 | G5: 2 | H5: =G5*汇总1!$V$40 -> 0.71731354
A6: 4 | B6: 濉溪县 | C6: 支持“淮优”农产品生产主体 | D6: 淮北市金之田食品科技有限公司 | E6: 支持“淮优”农产品生产主体 | F6: 2 | G6: 2 | H6: =G6*汇总1!$V$40 -> 0.71731354
A7: 5 | B7: 濉溪县 | C7: 支持“淮优”农产品生产主体 | D7: 濉溪县恒乾果蔬种植家庭农场 | E7: 支持“淮优”农产品生产主体 | F7: 2 | G7: 2 | H7: =G7*汇总1!$V$40 -> 0.71731354
A8: 6 | B8: 濉溪县 | C8: 支持“淮优”农产品生产主体 | D8: 濉溪县刘桥滋润苗木种植家庭农场 | E8: 支持“淮优”农产品生产主体 | F8: 2 | G8: 2 | H8: =G8*汇总1!$V$40 -> 0.71731354
A9: 7 | B9: 濉溪县 | C9: 支持“淮优”农产品生产主体 | D9: 濉溪县美久葡萄种植家庭农场 | E9: 支持“淮优”农产品生产主体 | F9: 2 | G9: 2 | H9: =G9*汇总1!$V$40 -> 0.71731354
A10: 8 | B10: 濉溪县 | C10: 支持“淮优”农产品生产主体 | D10: 濉溪县临涣天佑家庭农场 | E10: 支持“淮优”农产品生产主体 | F10: 2 | G10: 2 | H10: =G10*汇总1!$V$40 -> 0.71731354
A11: 9 | B11: 濉溪县 | C11: 支持“淮优”农产品生产主体 | D11: 安徽标王农牧股份有限公司 | E11: 支持“淮优”农产品生产主体 | F11: 2 | G11: 2 | H11: =G11*汇总1!$V$40 -> 0.71731354
A12: 10 | B12: 濉溪县 | C12: 支持“淮优”农产品生产主体 | D12: 安徽华安丰食品有限公司 | E12: 支持“淮优”农产品生产主体 | F12: 2 | G12: 2 | H12: =G12*汇总1!$V$40 -> 0.71731354
A13: 11 | B13: 濉溪县 | C13: 支持“淮优”农产品生产主体 | D13: 濉溪县孙疃牛雪梅家庭农场 | E13: 支持“淮优”农产品生产主体 | F13: 2 | G13: 2 | H13: =G13*汇总1!$V$40 -> 0.71731354
A14: 12 | B14: 濉溪县 | C14: 支持“淮优”农产品生产主体 | D14: 濉溪县世伟谷物种植专业合作社 | E14: 支持“淮优”农产品生产主体 | F14: 2 | G14: 2 | H14: =G14*汇总1!$V$40 -> 0.71731354
... A51: 49 | B51: 濉溪县 | C51: 支持“淮优”农产品生产主体 | D51: 濉溪县泽丰果树种植专业合作社 | E51: 支持“淮优”农产品生产主体 | F51: 2 | G51: 2 | H51: =G51*汇总1!$V$40 -> 0.71731354
A52: 50 | B52: 濉溪县 | C52: 支持“淮优”农产品生产主体 | D52: 安徽神华肉制品有限公司 | E52: 支持“淮优”农产品生产主体 | F52: 2 | G52: 2 | H52: =G52*汇总1!$V$40 -> 0.71731354 | I52: 补报
A53: 51 | B53: 杜集区 | C53: 支持“淮优”农产品生产主体 | D53: 淮北市段园镇庆武家庭农场 | E53: 支持“淮优”农产品生产主体 | F53: 2 | G53: 2 | H53: =G53*汇总1!$V$40 -> 0.71731354
A54: 52 | B54: 杜集区 | C54: 支持“淮优”农产品生产主体 | D54: 淮北市杜集区润丰种植专业合作社 | E54: 支持“淮优”农产品生产主体 | F54: 2 | G54: 2 | H54: =G54*汇总1!$V$40 -> 0.71731354
A55: 53 | B55: 杜集区 | C55: 支持“淮优”农产品生产主体 | D55: 淮北市杜集区国贵农民专业合作社 | E55: 支持“淮优”农产品生产主体 | F55: 2 | G55: 2 | H55: =G55*汇总1!$V$40 -> 0.71731354
A56: 54 | B56: 杜集区 | C56: 支持“淮优”农产品生产主体 | D56: 淮北市杜集区泛华种植家庭农场 | E56: 支持“淮优”农产品生产主体 | F56: 2 | G56: 2 | H56: =G56*汇总1!$V$40 -> 0.71731354
A57: 55 | B57: 杜集区 | C57: 支持“淮优”农产品生产主体 | D57: 淮北市杜集区矿山集南山源家庭农场 | E57: 支持“淮优”农产品生产主体 | F57: 2 | G57: 2 | H57: =G57*汇总1!$V$40 -> 0.71731354
A58: 56 | B58: 杜集区 | C58: 支持“淮优”农产品生产主体 | D58: 淮北市杜集区文勇水产专业合作社 | E58: 支持“淮优”农产品生产主体 | F58: 2 | G58: 2 | H58: =G58*汇总1!$V$40 -> 0.71731354
A59: 57 | B59: 杜集区 | C59: 支持“淮优”农产品生产主体 | D59: 淮北市杜集区鲜丰家庭农场 | E59: 支持“淮优”农产品生产主体 | F59: 2 | G59: 2 | H59: =G59*汇总1!$V$40 -> 0.71731354
A60: 58 | B60: 杜集区 | C60: 支持“淮优”农产品生产主体 | D60: 淮北市育之宝养殖有限责任公司 | E60: 支持“淮优”农产品生产主体 | F60: 2 | G60: 2 | H60: =G60*汇总1!$V$40 -> 0.71731354
A61: 59 | B61: 杜集区 | C61: 支持“淮优”农产品生产主体 | D61: 淮北市杜集区狄影农民专业合作社 | E61: 支持“淮优”农产品生产主体 | F61: 2 | G61: 2 | H61: =G61*汇总1!$V$40 -> 0.71731354
A62: 60 | B62: 杜集区 | C62: 支持“淮优”农产品生产主体 | D62: 淮北市杜集区石台镇开心家庭农场 | E62: 支持“淮优”农产品生产主体 | F62: 2 | G62: 2 | H62: =G62*汇总1!$V$40 -> 0.71731354
A63: 61 | B63: 杜集区 | C63: 支持“淮优”农产品生产主体 | D63: 淮北市杜集区常见家庭农场 | E63: 支持“淮优”农产品生产主体 | F63: 2 | G63: 2 | H63: =G63*汇总1!$V$40 -> 0.71731354
A64: 62 | B64: 杜集区 | C64: 支持“淮优”农产品生产主体 | D64: 淮北市展望商贸有限公司 | E64: 支持“淮优”农产品生产主体 | F64: 2 | G64: 2 | H64: =G64*汇总1!$V$40 -> 0.71731354 | I64: 补报
A65: 63 | B65: 杜集区 | C65: 支持“淮优”农产品生产主体 | D65: 淮北市杜集区乡情农业合作社 | E65: 支持“淮优”农产品生产主体 | F65: 2 | G65: 2 | H65: =G65*汇总1!$V$40 -> 0.71731354 | I65: 补报
A66: 64 | B66: 杜集区 | C66: 支持“淮优”农产品生产主体 | D66: 淮北市杜集区假日阳光家庭农场 | E66: 支持“淮优”农产品生产主体 | F66: 2 | G66: 2 | H66: =G66*汇总1!$V$40 -> 0.71731354 | I66: 补报
A67: 65 | B67: 烈山区 | C67: 支持“淮优”农产品生产主体 | D67: 淮北市烈山镇塔仙石榴专业合作联社 | E67: 支持“淮优”农产品生产主体 | F67: 2 | G67: 2 | H67: =G67*汇总1!$V$40 -> 0.71731354
A68: 66 | B68: 烈山区 | C68: 支持“淮优”农产品生产主体 | D68: 淮北市烈山区果美家庭农场 | E68: 支持“淮优”农产品生产主体 | F68: 2 | G68: 2 | H68: =G68*汇总1!$V$40 -> 0.71731354
A69: 67 | B69: 烈山区 | C69: 支持“淮优”农产品生产主体 | D69: 淮北市北后劲旅生物技术有限责任公司 | E69: 支持“淮优”农产品生产主体 | F69: 2 | G69: 2 | H69: =G69*汇总1!$V$40 -> 0.71731354
A70: 68 | B70: 烈山区 | C70: 支持“淮优”农产品生产主体 | D70: 淮北市巨海水产养殖有限公司 | E70: 支持“淮优”农产品生产主体 | F70: 2 | G70: 2 | H70: =G70*汇总1!$V$40 -> 0.71731354
A71: 69 | B71: 烈山区 | C71: 支持“淮优”农产品生产主体 | D71: 淮北市东南农产精品合作社 | E71: 支持“淮优”农产品生产主体 | F71: 2 | G71: 2 | H71: =G71*汇总1!$V$40 -> 0.71731354
A72: 70 | B72: 烈山区 | C72: 支持“淮优”农产品生产主体 | D72: 淮北恒祺农业科技有限公司 | E72: 支持“淮优”农产品生产主体 | F72: 2 | G72: 2 | H72: =G72*汇总1!$V$40 -> 0.71731354
A73: 71 | B73: 烈山区 | C73: 支持“淮优”农产品生产主体 | D73: 淮北市烈山区古饶大步家庭农场 | E73: 支持“淮优”农产品生产主体 | F73: 2 | G73: 2 | H73: =G73*汇总1!$V$40 -> 0.71731354
A74: 72 | B74: 烈山区 | C74: 支持“淮优”农产品生产主体 | D74: 淮北市烈山区古饶领腾智慧农民种植专业合作社 | E74: 支持“淮优”农产品生产主体 | F74: 2 | G74: 2 | H74: =G74*汇总1!$V$40 -> 0.71731354
A75: 73 | B75: 烈山区 | C75: 支持“淮优”农产品生产主体 | D75: 淮北市烈山区化家湖精果家庭农场 | E75: 支持“淮优”农产品生产主体 | F75: 2 | G75: 2 | H75: =G75*汇总1!$V$40 -> 0.71731354
A76: 74 | B76: 烈山区 | C76: 支持“淮优”农产品生产主体 | D76: 淮北市烈山区福源农民专业合作社 | E76: 支持“淮优”农产品生产主体 | F76: 2 | G76: 2 | H76: =G76*汇总1!$V$40 -> 0.71731354
...

Sheet 1-15.支持“淮优”农产品宣传推广
A1: 支持“淮优”农产品宣传推广汇总表
A2: 序号 | B2: 县区 | C2: 项目名称 | D2: 实施单位 | E2: 财政支持内容 | F2: 申请财政资金（万元） | G2: 核查审定奖补金额（万元） | H2: 发放金额（万元） | I2: 备注
A3: 1 | B3: 淮北市 | C3: 支持“淮优”农产品宣传推广 | D3: 淮北市农业农村局 | E3: 支持“淮优”农产品宣传推广 | F3: 100 | G3: 100 | H3: =G3*汇总1!$V$40 -> 35.865677
A4: 合计 | F4: =SUM(F3:F3) -> 100 | G4: =SUM(G3:G3) -> 100 | H4: =G4*汇总1!$V$40 -> 35.865677

Sheet 1-16.支持农业信息化应用
A1: 支持农业信息化应用项目汇总表
A2: 序号 | B2: 县区 | C2: 财政支持内容 | D2: 项目名称 | E2: 实施单位 | F2: 财政支持内容 | G2: 物联网软件设备投资金额（万元） | H2: 物联网软硬件审定金额（万元） | I2: 奖补标准 | J2: 县区审定奖补 金额（万元） | K2: 核查审定奖补 金额（万元） | L2: 发放金额（万元） | M2: 备注
A3: 1 | B3: 濉溪县 | C3: 支持农业信息 化应用 | D3: 安徽泽润智慧农业产 业园(双堆)项目 | E3: 安徽泽润农业科技 有限公司 | F3: 支持农业 信息化应 用奖补 | G3: 4500 | H3: 1142.5 | J3: 10 | K3: 0 | L3: =K3*汇总1!$V$40 -> 0 | M3: 利用衔接资金建设，核销
A4: 2 | B4: 濉溪县 | C4: 支持农业信息 化应用 | D4: 安徽俭越农牧科技 有限公司数字工厂 | E4: 安徽俭越农牧科技 有限公司 | F4: 支持数字农业工厂(农场 、牧场、渔场)奖补 | J4: 5 | K4: 5 | L4: =K4*汇总1!$V$40 -> 1.7932839
A5: 3 | B5: 杜集区 | C5: 农业信息化应用 | D5: 省级数字化农业工厂 | E5: 淮北市段园镇金丰甲鱼养殖专业合作社 | F5: 农业信息化应用 | I5: 5 | J5: 5 | K5: 5 | L5: =K5*汇总1!$V$40 -> 1.7932839
A6: 4 | B6: 烈山区 | C6: 农业信息化应用 | D6: 省级数字化农业工厂 | E6: 淮北市巨海水产养殖有限公司 | F6: 农业信息化应用 | J6: 5 | K6: 5 | L6: =K6*汇总1!$V$40 -> 1.7932839
A7: 5 | B7: 相山区 | C7: 农业信息化应用 | D7: 省级数字化农业工厂 | E7: 淮北市相山区至诚蔬菜专业合作社 | F7: 农业信息化应用 | I7: 5 | J7: 5 | K7: 5 | L7: =K7*汇总1!$V$40 -> 1.7932839
B8: 合 计 | J8: =SUM(J3:J7) -> 30 | K8: =SUM(K3:K7) -> 20 | L8: =SUM(L3:L7) -> 7.1731354

Sheet 1-17.支持农业贷款贴息
A1: 支持农业贷款贴息汇总表
A2: 序号 | B2: 县区 | C2: 项目单位 | D2: 贷款金额（万元） | E2: 贷款利率（%） | F2: 支付利息（万元） | G2: 用于农业生产经营金额（万元） | H2: 县区审定奖补 金额（万元） | I2: 核查审定支付利息（万元） | J2: 核查审定用于农业生产经营金额 （万元） | K2: 核查审定贴息金额（万元） | L2: 发放金额（万元） | M2: 备注
A3: 1 | B3: 濉溪县 | C3: 安徽泽润农业科技有限公司 | D3: 4500 | E3: 3.9 | F3: 134.7 | G3: 4509 | H3: 67.351667 | I3: 134.7 | J3: 218.09348 | K3: 60.38 | L3: =K3*汇总1!$V$40 -> 21.655696 | M3: 按照当年基准利率3.45%和贷款周期重新测算
A4: 2 | B4: 濉溪县 | C4: 淮北双收种业有限责任公司 | D4: 2100 | E4: 5.5.3.75. 4.45 | F4: 75.461526 | G4: 2100 | H4: 37.73 | I4: 75.461526 | J4: 1465.8622 | K4: 37.73 | L4: =K4*汇总1!$V$40 -> 13.53212 | M4: 按照当年基准利率3.45%和贷款周期重新测算
A5: 3 | B5: 濉溪县 | C5: 安徽濉溪牧原农牧有限公司 | D5: 7500 | E5: 3.35.3.25 | F5: 199.93 | G5: 7500 | H5: 100 | I5: 199.93125 | J5: 7897.2775 | K5: 100 | L5: =K5*汇总1!$V$40 -> 35.865677 | M5: 按照当年基准利率3.45%和贷款周期重新测算
A6: 4 | B6: 濉溪县 | C6: 安徽佳禾现代农业发 展有限公司 | D6: 544.4 | E6: 3.7.3.9 | F6: 33.946252 | G6: 544.4 | H6: 16.973126 | I6: 11.391948 | J6: 473.85827 | K6: 7.86 | L6: =K6*汇总1!$V$40 -> 2.8190422 | M6: 按照当年基准利率3.45%和贷款周期重新测算
A7: 5 | B7: 濉溪县 | C7: 安徽隆跃农业发展有限公司 | D7: 1243 | E7: 3.75、3.7 | F7: 20.113255 | G7: 1243 | H7: 10.06 | I7: 20.113255 | J7: 1405.7219 | K7: 10.02 | L7: =K7*汇总1!$V$40 -> 3.5937409 | M7: 按照当年基准利率3.45%和贷款周期重新测算
A8: 6 | B8: 濉溪县 | C8: 濉溪县孙疃鸿程农业 专业合作社 | D8: 288.9 | E8: 3.45 | F8: 11.6955 | G8: 288.9 | H8: 5.84775 | I8: 3.873573 | J8: 356.37 | K8: 0 | L8: =K8*汇总1!$V$40 -> 0 | M8: 个人借款，核减
A9: 7 | B9: 濉溪县 | C9: 淮北市金鳜湖水产养 殖有限公司 | D9: 800 | E9: 3.45 | F9: 24.195148 | G9: 800 | H9: 12.097574 | I9: 24.195148 | J9: 915.70975 | K9: 11.72 | L9: =K9*汇总1!$V$40 -> 4.2034574 | M9: 按照当年基准利率3.45%和贷款周期重新测算
A10: 8 | B10: 濉溪县 | C10: 濉溪县刘桥镇杨庄村 经济合作社 | D10: 255 | E10: 3.1 | F10: 7.5 | G10: 255 | H10: 3.75 | J10: 4.784792 | K10: 2.88 | L10: =K10*汇总1!$V$40 -> 1.0329315 | M10: 按照当年基准利率3.45%和贷款周期重新测算
A11: 9 | B11: 濉溪县 | C11: 安徽耘读生态农业发展股份有限公司 | D11: 68 | E11: 3.65 | F11: 2.501872 | G11: 68 | H11: 2.5 | I11: 0.615431 | J11: 71.0761 | K11: 0.26 | L11: =K11*汇总1!$V$40 -> 0.093250761 | M11: 按照当年基准利率3.45%和贷款周期重新测算
A12: 10 | B12: 濉溪县 | C12: 淮北市华瑞面粉有限公司 | D12: 1700 | E12: 3.45 | F12: 54.58 | G12: 1700 | H12: 32 | I12: 54.575867 | J12: 4271.5203 | K12: 32 | L12: =K12*汇总1!$V$40 -> 11.477017 | M12: 按照当年基准利率3.45%和贷款周期重新测算
A13: 11 | B13: 濉溪县 | C13: 安徽神华肉制品有限公司 | D13: 6750 | E13: 3.35、3.45. 3.65 | F13: 272.26 | G13: 6750 | H13: 100 | I13: 272.26389 | J13: 30172.853 | K13: 100 | L13: =K13*汇总1!$V$40 -> 35.865677 | M13: 按照当年基准利率3.45%和贷款周期重新测算
A14: 12 | B14: 濉溪县 | C14: 濉溪诚益纺织品有限公司 | D14: 695 | E14: 3.8、3.6. 4.45 | F14: 38.72789 | G14: 695 | H14: 4.594796 | I14: 4.792819 | J14: 529.92025 | K14: =I14 -> 4.792819 | L14: =K14*汇总1!$V$40 -> 1.718977
A15: 13 | B15: 濉溪县 | C15: 淮北祈康食品有限责任公司 | D15: 1550 | E15: 4.3、4.8 | F15: 69.58 | G15: 1550 | H15: 69.58 | I15: 69.58 | J15: 4242.353 | K15: 26.56 | L15: =K15*汇总1!$V$40 -> 9.5259239 | M15: 按照当年基准利率3.45%和贷款周期重新测算
A16: 14 | B16: 濉溪县 | C16: 濉溪县鲁王制粉有限责任公司 | D16: 16060 | E16: 3.2、3.45、 3.65 | F16: 94.17 | G16: 16060 | H16: 42.29 | I16: 94.17 | J16: 47.09 | K16: 42.29 | L16: =K16*汇总1!$V$40 -> 15.167595 | M16: 按照当年基准利率3.45%和贷款周期重新测算
A17: 15 | B17: 濉溪县 | C17: 濉溪县翔风禽业有限责任公司 | D17: 100 | E17: 3.95.6.7 | F17: 9.46 | G17: 100 | H17: 4.73 | I17: 9.456121 | J17: 40.7 | K17: 2.74 | L17: =K17*汇总1!$V$40 -> 0.98271956 | M17: 按照当年基准利率3.45%和贷款周期重新测算
A18: 16 | B18: 濉溪县 | C18: 安徽华安丰食品有限公司 | D18: 600 | E18: 3.5 | F18: 21.96 | G18: 600 | H18: 10.98 | I18: 21.96 | J18: 2186.1642 | K18: 10.35 | L18: =K18*汇总1!$V$40 -> 3.7120976 | M18: 按照当年基准利率3.45%和贷款周期重新测算
A19: 17 | B19: 濉溪县 | C19: 安徽省中瑞农副产品 有限责任公司 | D19: 4500 | E19: 3.35、3.55 | F19: 69.2 | G19: 0.16666667 | H19: 69.2 | I19: 15.377084 | J19: 10657.151 | K19: 24.94 | L19: =K19*汇总1!$V$40 -> 8.9448999 | M19: 按照当年基准利率3.45%和贷款周期重新测算
A20: 18 | B20: 濉溪县 | C20: 淮北市鲁南面粉(集 团)有限公司 | D20: 3640 | E20: 3.0、3.1. 3.45、3.85 | F20: 100.97319 | G20: 3640 | H20: 53.5 | I20: 106.97 | J20: 6158.6603 | K20: 46.65 | L20: =K20*汇总1!$V$40 -> 16.731338 | M20: 按照当年基准利率3.45%和贷款周期重新测算
A21: 19 | B21: 濉溪县 | C21: 濉溪县韩村旭晨家庭 农场 | D21: 100 | E21: 3.5 | F21: 3.133749 | G21: 100 | H21: 1.96 | I21: 3.13 | J21: 59.0102 | K21: 1.56 | L21: =K21*汇总1!$V$40 -> 0.55950456 | M21: 按照当年基准利率3.45%和贷款周期重新测算
A22: 20 | B22: 濉溪县 | C22: 濉溪县绿安生物饲料 有限公司 | D22: 520 | E22: 3.45.3.6 | F22: 8.908006 | G22: 520 | H22: 4.484 | I22: 2.267417 | J22: 95.8704 | K22: 4.48 | L22: =K22*汇总1!$V$40 -> 1.6067823
A23: 21 | B23: 濉溪县 | C23: 安徽省祥拓商贸有限公司 | D23: 6110 | E23: 4.25.6.0 | F23: 88.748615 | G23: 6110 | H23: 44.3743 | I23: 88.75 | J23: 3321.8126 | K23: 24.45 | L23: =K23*汇总1!$V$40 -> 8.7691581 | M23: 按照当年基准利率3.45%和贷款周期重新测算
A24: 22 | B24: 濉溪县 | C24: 安徽永民种业有限责任公司 | D24: 3400 | E24: 3.3.3.45. 3.7 | F24: 108.89103 | G24: 3490 | H24: 54.4 | I24: 106.89103 | J24: 6185.6699 | K24: 43.85 | L24: =K24*汇总1!$V$40 -> 15.727099 | M24: 按照当年基准利率3.45%和贷款周期重新测算
A25: 23 | B25: 濉溪县 | C25: 安徽昊晨食品股份有限公司 | D25: 15409 | E25: 3.2.3.35. 3.55.3.65. 3.7,3.8. 3.85.3.95. 5.5 | F25: 274.81 | G25: 15409 | H25: 100 | I25: 274.81 | J25: 16222.07 | K25: 100 | L25: =K25*汇总1!$V$40 -> 35.865677 | M25: 按照当年基准利率3.45%和贷款周期重新测算
A26: 24 | B26: 濉溪县 | C26: 安徽皖雪食品股份有限公司 | D26: 11650 | E26: 3.35.3.5. 3.6、3.65. 3.7、3.75. 3.8,3.85. 3.95.5.5 | F26: 215.22 | G26: 11650 | H26: 100 | I26: 215.22 | J26: 11756.45 | K26: 100 | L26: =K26*汇总1!$V$40 -> 35.865677 | M26: 按照当年基准利率3.45%和贷款周期重新测算
A27: 25 | B27: 濉溪县 | C27: 安徽农富康生物技术 股份有限公司 | D27: 1660 | E27: 3.45.3.65. 3.75.3.8 | F27: 35.78 | G27: 1660 | H27: 16.97 | I27: 16.97 | J27: 445.08587 | K27: 16.97 | L27: =K27*汇总1!$V$40 -> 6.0864054 | M27: 按照当年基准利率3.45%和贷款周期重新测算
A28: 26 | B28: 濉溪县 | C28: 安徽柳丰种业科技有 限责任公司 | D28: 2422 | E28: 3.3、3.65. 5.5、6.6 | F28: 81.140133 | G28: 2422 | H28: 40.57 | I28: 81.140133 | J28: 2523.5556 | K28: 35.1 | L28: =K28*汇总1!$V$40 -> 12.588853 | M28: 按照当年基准利率3.45%和贷款周期重新测算
A29: 27 | B29: 濉溪县 | C29: 濉溪县双丰种业有限责任公司 | D29: 200 | E29: 3.45 | F29: 7.1 | G29: 200 | H29: 3.55 | I29: 7.19 | J29: 354.06662 | K29: 3.45 | L29: =K29*汇总1!$V$40 -> 1.2373659 | M29: 按照当年基准利率3.45%和贷款周期重新测算
A30: 28 | B30: 濉溪县 | C30: 安徽良润农业科技有限公司 | D30: 200 | E30: 3.45 | F30: 11.183334 | G30: 200 | H30: 11.183334 | I30: 9.655556 | J30: 420.89032 | K30: 3.1 | L30: =K30*汇总1!$V$40 -> 1.111836 | M30: 按照当年基准利率3.45%和贷款周期重新测算
A31: 29 | B31: 濉溪县 | C31: 淮北市宝泽农牧科技有限公司 | D31: 320 | E31: 3.95 | F31: 12.452516 | G31: 320 | H31: 6.2262 | I31: 12.452516 | J31: 320.90689 | K31: 5.5 | L31: =K31*汇总1!$V$40 -> 1.9726122 | M31: 按照当年基准利率3.45%和贷款周期重新测算
A32: 30 | B32: 濉溪县 | C32: 安徽盈穗种业科技有限公司 | D32: 500 | E32: 3.45 | F32: 12.3 | G32: 500 | H32: 3.85 | I32: 12.322347 | J32: 1359.1564 | K32: =H32 -> 3.85 | L32: =K32*汇总1!$V$40 -> 1.3808286
A33: 31 | B33: 濉溪县 | C33: 濉溪县韩村怡馨果树 种植家庭农场 | D33: 150 | E33: 5.78.5.84 | F33: 3.75978 | G33: 150 | H33: 1.8798 | I33: 3.513058 | J33: 19.955 | K33: 1.04 | L33: =K33*汇总1!$V$40 -> 0.37300304 | M33: 按照当年基准利率3.45%和贷款周期重新测算
A34: 32 | B34: 濉溪县 | C34: 濉溪县南坪樊中胜养殖场 | D34: 299 | E34: 3.65、3.25. 3.45. | F34: 7.342624 | G34: 299 | H34: 3.671312 | I34: 7.342624 | J34: 93.32 | K34: 3.05 | L34: =K34*汇总1!$V$40 -> 1.0939032 | M34: 按照当年基准利率3.45%和贷款周期重新测算
A35: 33 | B35: 濉溪县 | C35: 濉溪县胡茂永养殖服 务专业合作社 | D35: 105 | E35: 3.45 | F35: 2.112 | G35: 105 | H35: 1.056 | I35: 2.313237 | J35: 35.1796 | K35: 1.06 | L35: =K35*汇总1!$V$40 -> 0.38017618 | M35: 按照当年基准利率3.45%和贷款周期重新测算
A36: 34 | B36: 濉溪县 | C36: 濉溪县华林种业有限责任公司 | D36: 100 | E36: 3.5 | F36: 4.8 | G36: 100 | H36: 2.4 | I36: 4.188078 | J36: 84.498 | K36: 0 | L36: =K36*汇总1!$V$40 -> 0 | M36: 个人借款，核减
A37: 35 | B37: 濉溪县 | C37: 濉溪县新建农业种植 专业合作社 | D37: 120 | E37: 5.2 | F37: 4.8 | G37: 120 | H37: 2.40657 | I37: 13.34685 | J37: 2.887892 | K37: 1.19 | L37: =K37*汇总1!$V$40 -> 0.42680156 | M37: 按照当年基准利率3.45%和贷款周期重新测算
A38: 36 | B38: 濉溪县 | C38: 濉溪县韩村鑫农家庭 农场 | D38: 108.51 | E38: 6.0845 | F38: 4.0408 | G38: 108.51 | H38: 2 | I38: 4.0408 | J38: 19.955 | K38: 1.76 | L38: =K38*汇总1!$V$40 -> 0.63123592 | M38: 按照当年基准利率3.45%和贷款周期重新测算
A39: 37 | B39: 濉溪县 | C39: 濉溪县五沟单单养殖 家庭农场 | D39: 150 | E39: 3.45 | F39: 6.5097 | G39: 150 | H39: 3.2548 | I39: 5.457527 | J39: =F39 -> 6.5097 | K39: 2.91 | L39: =K39*汇总1!$V$40 -> 1.0436912 | M39: 无支出凭证
A40: 38 | B40: 濉溪县 | C40: 濉溪县五沟田风种植 家庭农场 | D40: 120 | E40: 5.39 | F40: 4.1101 | G40: 120 | H40: 2 | I40: 4.269813 | J40: =F40 -> 4.1101 | K40: 1.03 | L40: =K40*汇总1!$V$40 -> 0.36941648 | M40: 按照当年基准利率3.45%和贷款周期重新测算
...
