Workbook

Sheet 2.汇总-肉牛产业发展
A1: 淮北市支持肉牛产业高质量发展扶持项目汇总表
T2: 金额单位：万元
A3: 序号 | B3: 项目 | C3: 相山区 | G3: 县区审定奖补金额（万元） | O3: 审计审定奖补金额（万元） | W3: 发放金额
G4: 杜集区 | I4: 烈山区 | K4: 濉溪县 | M4: 合计 | O4: 杜集区 | Q4: 烈山区 | S4: 濉溪县 | U4: 合计
C5: 申报个数 | D5: 申报金额 | E5: 审定个数 | F5: 审定金额 | G5: 个数 | H5: 金额 | I5: 个数 | J5: 金额 | K5: 个数 | L5: 金额 | M5: 个数 | N5: 金额 | O5: 个数 | P5: 金额 | Q5: 个数 | R5: 金额 | S5: 个数 | T5: 金额 | U5: 个数 | V5: 金额
A6: 1 | B6: 支持肉牛养殖扩容增量 | G6: 2 | H6: 55.04 | I6: 3 | J6: 114.46 | K6: 11 | L6: 346.38 | M6: =G6+I6+K6 -> 16 | N6: =H6+J6+L6 -> 515.88 | O6: 2 | P6: 55.04 | Q6: 3 | R6: 114.46 | S6: 11 | T6: 264.502 | U6: =O6+Q6+S6 -> 16 | V6: =P6+R6+T6 -> 434.002 | W6: =V6*[1]汇总1!$V$40 -> 155.65776
A7: 2 | B7: 支持肉牛良种繁育推广 | G7: 1 | H7: 0.25 | I7: 1 | J7: 6.9 | K7: 33 | L7: 30.45 | M7: =G7+I7+K7 -> 35 | N7: =H7+J7+L7 -> 37.6 | O7: 1 | P7: 0.25 | Q7: 1 | R7: 6.9 | S7: 33 | T7: 29.85 | U7: =O7+Q7+S7 -> 35 | V7: =P7+R7+T7 -> 37 | W7: =V7*[1]汇总1!$V$40 -> 13.270301
A8: 3 | B8: 支持市内屠宰 | G8: 8 | H8: 52.05 | I8: 2 | J8: 5.75 | K8: 10 | L8: 37.9 | M8: =G8+I8+K8 -> 20 | N8: =H8+J8+L8 -> 95.7 | O8: 8 | P8: 52.05 | Q8: 2 | R8: 5.75 | S8: 10 | T8: 37.55 | U8: =O8+Q8+S8 -> 20 | V8: =P8+R8+T8 -> 95.35 | W8: =V8*[1]汇总1!$V$40 -> 34.197923
A9: 4 | B9: 支持粪污资源产业化发展 | K9: 3 | L9: 133.18 | M9: =G9+I9+K9 -> 3 | N9: =H9+J9+L9 -> 133.18 | S9: 3 | T9: 118.38 | U9: =O9+Q9+S9 -> 3 | V9: =P9+R9+T9 -> 118.38 | W9: =V9*[1]汇总1!$V$40 -> 42.457789
A10: 5 | B10: 培育肉牛产业特色镇、示范村 | G10: 3 | H10: 60 | I10: 2 | J10: 120 | K10: 9 | L10: 420 | M10: =G10+I10+K10 -> 14 | N10: =H10+J10+L10 -> 600 | O10: 3 | P10: 60 | Q10: 2 | R10: 120 | S10: 9 | T10: 420 | U10: =O10+Q10+S10 -> 14 | V10: =P10+R10+T10 -> 600 | W10: =V10*[1]汇总1!$V$40 -> 215.19406
A11: 6 | B11: 支持在淮举办大型专业协会或年会 | G11: 1 | H11: 10 | M11: =G11+I11+K11 -> 1 | N11: =H11+J11+L11 -> 10 | O11: 1 | P11: 10 | U11: =O11+Q11+S11 -> 1 | V11: =P11+R11+T11 -> 10 | W11: =V11*[1]汇总1!$V$40 -> 3.5865677
A12: 7 | B12: 支持搭建合作平台 | G12: 1 | H12: 42 | K12: 1 | L12: 22.39 | M12: =G12+I12+K12 -> 2 | N12: =H12+J12+L12 -> 64.39 | O12: 1 | P12: 42 | S12: 1 | T12: 18.01 | U12: =O12+Q12+S12 -> 2 | V12: =P12+R12+T12 -> 60.01 | W12: =V12*[1]汇总1!$V$40 -> 21.522993
A13: 8 | B13: 肉牛养殖贷款 | G13: 105 | H13: 340.5695 | I13: 12 | J13: 148.14682 | K13: 98 | L13: 374.21706 | M13: =G13+I13+K13 -> 215 | N13: =H13+J13+L13 -> 862.93338 | O13: 11 | P13: 17.43 | Q13: 2 | R13: 117.82 | S13: 4 | T13: 109.75 | U13: =O13+Q13+S13 -> 17 | V13: =P13+R13+T13 -> 245 | W13: =V13*[1]汇总1!$V$40 -> 87.870909
B14: 合 计 | C14: =SUM(C6:C13) -> 0 | D14: =SUM(D6:D13) -> 0 | E14: =SUM(E6:E13) -> 0 | F14: =SUM(F6:F13) -> 0 | G14: =SUM(G6:G13) -> 121 | H14: =SUM(H6:H13) -> 559.9095 | I14: =SUM(I6:I13) -> 20 | J14: =SUM(J6:J13) -> 395.25682 | ... V14: =SUM(V6:V13) -> 1599.742 | W14: =V14*[1]汇总1!$V$40 -> 573.7583

Sheet 2-1.支持肉牛养殖扩容增量
A1: 1、支持肉牛养殖扩容增量汇总表
A2: 序号 | B2: 县区 | C2: 项目名称 | D2: 实施单位 | E2: 建设面积（㎡） | F2: 补贴标准 | G2: 存栏基础（头） | H2: 县区审定奖补 金额（万元） | I2: 核查审定投 资额（万元） | J2: 核查审定奖补金额（万元） | K2: 发放金额(万元) | L2: 备注
A3: 1 | B3: 杜集区 | C3: 支持肉牛养殖扩容增量 | D3: 淮北市飞达养牛合作社 | E3: 1008 | F3: 50元/㎡ | H3: 5.04 | I3: 10.3 | J3: =H3 -> 5.04 | K3: =J3*[1]汇总2!$V$37 -> 1.8076301
A4: 2 | B4: 杜集区 | C4: 支持肉牛养殖扩容增量 | D4: 淮北市棒棒养殖有限公司 | E4: =50*666 -> 33300 | F4: 50元/㎡ | H4: 50 | I4: 92.06 | J4: =H4 -> 50 | K4: =J4*[1]汇总2!$V$37 -> 17.932839
A5: 3 | B5: 烈山区 | C5: 支持肉牛养殖扩容增量 | D5: 安徽木兰农牧业科技有限公司 | E5: 11000 | F5: 50元/㎡ | G5: 600 | H5: 50 | I5: 628.12 | J5: =H5 -> 50 | K5: =J5*[1]汇总2!$V$37 -> 17.932839
A6: 4 | B6: 烈山区 | C6: 支持肉牛养殖扩容增量 | D6: 淮北市烈山区秦小波养殖场 | E6: 2892 | F6: 50元/㎡ | G6: 500 | H6: 14.46 | I6: 55.5 | J6: =H6 -> 14.46 | K6: =J6*[1]汇总2!$V$37 -> 5.1861769
A7: 5 | B7: 烈山区 | C7: 支持肉牛养殖扩容增量 | D7: 淮北市古饶鸿旺养殖有限公司 | E7: 10077 | F7: 50元/㎡ | G7: 500 | H7: 50 | I7: 139.8087 | J7: =H7 -> 50 | K7: =J7*[1]汇总2!$V$37 -> 17.932839
A8: 6 | B8: 濉溪县 | C8: 支持肉牛养殖扩容增量 | D8: 濉溪县百善史继红养牛场 | E8: 3300 | F8: 50元/㎡ | G8: 200 | H8: 15.21 | I8: 37.15 | J8: =H8 -> 15.21 | K8: =J8*[1]汇总2!$V$37 -> 5.4551695
A9: 7 | B9: 濉溪县 | C9: 支持肉牛养殖扩容增量 | D9: 濉溪县众顺牧业有限公司 | E9: 14400 | F9: 50元/㎡ | G9: 2600 | H9: 50 | I9: 120 | J9: =H9 -> 50 | K9: =J9*[1]汇总2!$V$37 -> 17.932839
A10: 8 | B10: 濉溪县 | C10: 支持肉牛养殖扩容增量 | D10: 淮北安金牧业有限公司 | E10: 5000 | F10: 50元/㎡ | G10: 500 | H10: 36.12 | I10: 47.8 | J10: =H10 -> 36.12 | K10: =J10*[1]汇总2!$V$37 -> 12.954683
A11: 9 | B11: 濉溪县 | C11: 支持肉牛养殖扩容增量 | D11: 濉溪县百善晟途养殖场 | E11: 11895 | F11: 50元/㎡ | G11: 1100 | H11: 85.6568 | I11: 294 | J11: 50 | K11: =J11*[1]汇总2!$V$37 -> 17.932839
A12: 10 | B12: 濉溪县 | C12: 支持肉牛养殖扩容增量 | D12: 濉溪县百善海涛肉牛养殖场 | E12: 1400 | F12: 50元/㎡ | G12: 60 | H12: 7 | I12: 16.876 | J12: =H12 -> 7 | K12: =J12*[1]汇总2!$V$37 -> 2.5105974
A13: 11 | B13: 濉溪县 | C13: 支持肉牛养殖扩容增量 | D13: 中安信（淮北）食品有限公司 | F13: 50元/㎡ | H13: 46.22 | J13: 0 | K13: =J13*[1]汇总2!$V$37 -> 0 | L13: 申报项目不符合
A14: 12 | B14: 濉溪县 | C14: 支持肉牛养殖扩容增量 | D14: 濉溪县刘桥田润蔬菜种植家庭农场 | E14: 4970 | F14: 50元/㎡ | G14: 300 | H14: 21 | I14: 142.959 | J14: =H14 -> 21 | K14: =J14*[1]汇总2!$V$37 -> 7.5317922
A15: 13 | B15: 濉溪县 | C15: 支持肉牛养殖扩容增量 | D15: 濉溪县屹立家庭农场 | E15: 4320 | F15: 50元/㎡ | G15: 300 | H15: 17.92 | I15: 173.1355 | J15: =H15 -> 17.92 | K15: =J15*[1]汇总2!$V$37 -> 6.4271294
A16: 14 | B16: 濉溪县 | C16: 支持肉牛养殖扩容增量 | D16: 安徽庆宇农业科技发展有限公司 | E16: 6600 | F16: 50元/㎡ | G16: 1000 | H16: 27.185 | I16: 121.62 | J16: =H16 -> 27.185 | K16: =J16*[1]汇总2!$V$37 -> 9.7500844
A17: 15 | B17: 濉溪县 | C17: 支持肉牛养殖扩容增量 | D17: 濉溪县金秋养牛场 | E17: 2600 | F17: 50元/㎡ | G17: 400 | H17: 10.067 | I17: 19.2518 | J17: =H17 -> 10.067 | K17: =J17*[1]汇总2!$V$37 -> 3.6105977
A18: 16 | B18: 濉溪县 | C18: 支持肉牛养殖扩容增量 | D18: 安徽五牛牧业有限公司 | E18: 9000 | F18: 50元/㎡ | G18: 600 | H18: 30 | I18: 33.8495 | J18: =H18 -> 30 | K18: =J18*[1]汇总2!$V$37 -> 10.759703
A19: 合 计 | H19: =SUM(H3:H18) -> 515.8788 | J19: =SUM(J3:J18) -> 434.002 | K19: =J19*[1]汇总2!$V$37 -> 155.65776

Sheet 2-2.支持肉牛良种繁育推广
A1: 2、支持肉牛良种繁育推广汇总表
A2: 序号 | B2: 县区 | C2: 项目名称 | D2: 实施单位 | E2: 存栏基础母牛达10头以上（头） | F2: 申报新增牛犊头数（头） | G2: 审定新增牛犊头数（头） | H2: 补贴标准（万元） | I2: 县区审定奖补 金额（万元） | J2: 核查审定奖补金额（万元） | K2: 发放金额(万元) | L2: 备注
A3: 1 | B3: 杜集区 | C3: 支持肉牛良种繁育推广 | D3: 张孝东养殖户 | E3: 13 | F3: 5 | G3: 5 | H3: 0.05 | I3: 0.25 | J3: 0.25 | K3: =J3*[1]汇总2!$V$37 -> 0.089664193
A4: 2 | B4: 烈山区 | C4: 支持肉牛良种繁育推广 | D4: 安徽木兰农牧业科技有限公司 | E4: 160 | F4: 138 | G4: 138 | H4: 0.05 | I4: =G4*H4 -> 6.9 | J4: =H4*G4 -> 6.9 | K4: =J4*[1]汇总2!$V$37 -> 2.4747317
A5: 3 | B5: 濉溪县 | C5: 支持肉牛良种繁育推广 | D5: 张攀攀 | E5: 30 | F5: 9 | G5: 9 | H5: 0.05 | I5: 0.45 | J5: =H5*G5 -> 0.45 | K5: =J5*[1]汇总2!$V$37 -> 0.16139555
A6: 4 | B6: 濉溪县 | C6: 支持肉牛良种繁育推广 | D6: 濉溪县陈志家庭农场 | E6: 43 | F6: 15 | G6: 15 | H6: 0.05 | I6: 0.75 | J6: =H6*G6 -> 0.75 | K6: =J6*[1]汇总2!$V$37 -> 0.26899258
A7: 5 | B7: 濉溪县 | C7: 支持肉牛良种繁育推广 | D7: 濉溪县化春养殖家庭农场 | E7: 150 | F7: 27 | G7: 27 | H7: 0.05 | I7: 1.35 | J7: =H7*G7 -> 1.35 | K7: =J7*[1]汇总2!$V$37 -> 0.48418664
A8: 6 | B8: 濉溪县 | C8: 支持肉牛良种繁育推广 | D8: 濉溪县百善吕夫源养猪场 | E8: 260 | F8: 12 | G8: 12 | H8: 0.05 | I8: 0.6 | J8: =H8*G8 -> 0.6 | K8: =J8*[1]汇总2!$V$37 -> 0.21519406
A9: 7 | B9: 濉溪县 | C9: 支持肉牛良种繁育推广 | D9: 濉溪县百善刁明建养殖场 | E9: 168 | F9: 43 | G9: 43 | H9: 0.05 | I9: 2.15 | J9: =H9*G9 -> 2.15 | K9: =J9*[1]汇总2!$V$37 -> 0.77111206
A10: 8 | B10: 濉溪县 | C10: 支持肉牛良种繁育推广 | D10: 濉溪县百善淑云养牛场 | E10: 30 | F10: 10 | G10: 10 | H10: 0.05 | I10: 0.5 | J10: =H10*G10 -> 0.5 | K10: =J10*[1]汇总2!$V$37 -> 0.17932839
A11: 9 | B11: 濉溪县 | C11: 支持肉牛良种繁育推广 | D11: 濉溪县敬祥牲畜养殖场 | E11: 32 | F11: 10 | G11: 10 | H11: 0.05 | I11: 0.5 | J11: =H11*G11 -> 0.5 | K11: =J11*[1]汇总2!$V$37 -> 0.17932839
A12: 10 | B12: 濉溪县 | C12: 支持肉牛良种繁育推广 | D12: 濉溪县王美丽养牛场 | E12: 35 | F12: 7 | G12: 7 | H12: 0.05 | I12: 0.35 | J12: =H12*G12 -> 0.35 | K12: =J12*[1]汇总2!$V$37 -> 0.12552987
A13: 11 | B13: 濉溪县 | C13: 支持肉牛良种繁育推广 | D13: 濉溪县郑冬燕养牛场 | E13: 59 | F13: 12 | G13: 12 | H13: 0.05 | I13: 0.6 | J13: =H13*G13 -> 0.6 | K13: =J13*[1]汇总2!$V$37 -> 0.21519406
A14: 12 | B14: 濉溪县 | C14: 支持肉牛良种繁育推广 | D14: 濉溪县轩阳养牛场 | E14: 112 | F14: 23 | G14: 23 | H14: 0.05 | I14: 1.15 | J14: =H14*G14 -> 1.15 | K14: =J14*[1]汇总2!$V$37 -> 0.41245529
A15: 13 | B15: 濉溪县 | C15: 支持肉牛良种繁育推广 | D15: 濉溪县佳昕养殖场 | E15: 45 | F15: 13 | G15: 13 | H15: 0.05 | I15: 0.65 | J15: =H15*G15 -> 0.65 | K15: =J15*[1]汇总2!$V$37 -> 0.2331269
A16: 14 | B16: 濉溪县 | C16: 支持肉牛良种繁育推广 | D16: 濉溪县雪理养牛场 | E16: 45 | F16: 12 | G16: 12 | H16: 0.05 | I16: 0.6 | J16: =H16*G16 -> 0.6 | K16: =J16*[1]汇总2!$V$37 -> 0.21519406
... A27: 25 | B27: 濉溪县 | C27: 支持肉牛良种繁育推广 | D27: 濉溪县四铺存款种植家庭农场 | E27: 30 | F27: 12 | G27: 12 | H27: 0.05 | I27: 0.6 | J27: =H27*G27 -> 0.6 | K27: =J27*[1]汇总2!$V$37 -> 0.21519406
A28: 26 | B28: 濉溪县 | C28: 支持肉牛良种繁育推广 | D28: 濉溪县四铺刘儒权种植家庭农场 | E28: 25 | F28: 12 | G28: 10 | H28: 0.05 | I28: 0.6 | J28: =H28*G28 -> 0.5 | K28: =J28*[1]汇总2!$V$37 -> 0.17932839 | L28: 24年10头牛犊
A29: 27 | B29: 濉溪县 | C29: 支持肉牛良种繁育推广 | D29: 濉溪县四铺刘军养殖场 | E29: 20 | F29: 13 | G29: 13 | H29: 0.05 | I29: 0.65 | J29: =H29*G29 -> 0.65 | K29: =J29*[1]汇总2!$V$37 -> 0.2331269
A30: 28 | B30: 濉溪县 | C30: 支持肉牛良种繁育推广 | D30: 濉溪县四铺长兴养殖场 | E30: 25 | F30: 10 | G30: 10 | H30: 0.05 | I30: 0.5 | J30: =H30*G30 -> 0.5 | K30: =J30*[1]汇总2!$V$37 -> 0.17932839
A31: 29 | B31: 濉溪县 | C31: 支持肉牛良种繁育推广 | D31: 濉溪县四铺立志养殖场 | E31: 35 | F31: 21 | G31: 21 | H31: 0.05 | I31: 1.05 | J31: =H31*G31 -> 1.05 | K31: =J31*[1]汇总2!$V$37 -> 0.37658961
A32: 30 | B32: 濉溪县 | C32: 支持肉牛良种繁育推广 | D32: 濉溪县四铺耀东养牛场 | E32: 35 | F32: 20 | G32: 20 | H32: 0.05 | I32: 1 | J32: =H32*G32 -> 1 | K32: =J32*[1]汇总2!$V$37 -> 0.35865677
A33: 31 | B33: 濉溪县 | C33: 支持肉牛良种繁育推广 | D33: 南坪刘鸿涛养殖场 | E33: 62 | F33: 30 | G33: 25 | H33: 0.05 | I33: 1.5 | J33: =H33*G33 -> 1.25 | K33: =J33*[1]汇总2!$V$37 -> 0.44832097 | L33: 24年25头牛犊
A34: 32 | B34: 濉溪县 | C34: 支持肉牛良种繁育推广 | D34: 南坪杰程养殖场 | E34: 69 | F34: 30 | G34: 23 | H34: 0.05 | I34: 1.5 | J34: =H34*G34 -> 1.15 | K34: =J34*[1]汇总2!$V$37 -> 0.41245529 | L34: 24年23头牛犊
A35: 33 | B35: 濉溪县 | C35: 支持肉牛良种繁育推广 | D35: 濉溪县双堆张永银养殖场 | E35: 14 | F35: 4 | G35: 4 | H35: 0.05 | I35: 0.2 | J35: =H35*G35 -> 0.2 | K35: =J35*[1]汇总2!$V$37 -> 0.071731354
A36: 34 | B36: 濉溪县 | C36: 支持肉牛良种繁育推广 | D36: 濉溪县双堆张俊然养殖场 | E36: 33 | F36: 13 | G36: 15 | H36: 0.05 | I36: 0.65 | J36: =H36*G36 -> 0.75 | K36: =J36*[1]汇总2!$V$37 -> 0.26899258 | L36: 24年15头牛犊
A37: 35 | B37: 濉溪县 | C37: 支持肉牛良种繁育推广 | D37: 濉溪县双堆杨国胜养殖场 | E37: 31 | F37: 16 | G37: 16 | H37: 0.05 | I37: 0.8 | J37: =H37*G37 -> 0.8 | K37: =J37*[1]汇总2!$V$37 -> 0.28692542
A38: 合 计 | I38: =SUM(I3:I37) -> 37.6 | J38: =SUM(J3:J37) -> 37 | K38: =J38*[1]汇总2!$V$37 -> 13.270301

Sheet 2-3.支持市内屠宰
A1: 3-1、支持市内屠宰汇总表
A2: 序号 | B2: 县区 | C2: 项目名称 | D2: 实施单位 | E2: 头数 | F2: 补贴标准（万元） | G2: 县区审定奖补 金额（万元） | H2: 核查审定奖补金额（万元） | I2: 发放金额(万元) | J2: 备注
A3: 1 | B3: 杜集区 | C3: 支持市内屠宰 | D3: 张孝东养殖户 | E3: 12 | F3: 0.05 | G3: 0.6 | H3: 0.6 | I3: =H3*[1]汇总2!$V$37 -> 0.21519406
A4: 2 | B4: 杜集区 | C4: 支持市内屠宰 | D4: 淮北市棒棒养殖有限公司 | E4: 870 | F4: 0.05 | G4: =E4*500/10000 -> 43.5 | H4: =G4 -> 43.5 | I4: =H4*[1]汇总2!$V$37 -> 15.60157
A5: 3 | B5: 杜集区 | C5: 支持市内屠宰 | D5: 淮北市飞达养牛合作社 | E5: 12 | F5: 0.05 | G5: =E5*500/10000 -> 0.6 | H5: =G5 -> 0.6 | I5: =H5*[1]汇总2!$V$37 -> 0.21519406
A6: 4 | B6: 杜集区 | C6: 支持市内屠宰 | D6: 淮北市杜集区俊恺养殖家庭农场 | E6: 17 | F6: 0.05 | G6: =E6*500/10000 -> 0.85 | H6: =E6*0.05 -> 0.85 | I6: =H6*[1]汇总2!$V$37 -> 0.30485826
A7: 5 | B7: 杜集区 | C7: 支持市内屠宰 | D7: 淮北市石台镇犇犇奶牛养殖场 | E7: 70 | F7: 0.05 | G7: =E7*500/10000 -> 3.5 | H7: =G7 -> 3.5 | I7: =H7*[1]汇总2!$V$37 -> 1.2552987
A8: 6 | B8: 杜集区 | C8: 支持市内屠宰 | D8: 淮北市段园镇云虎养殖场 | E8: 41 | F8: 0.05 | G8: =E8*500/10000 -> 2.05 | H8: =G8 -> 2.05 | I8: =H8*[1]汇总2!$V$37 -> 0.73524638
A9: 7 | B9: 杜集区 | C9: 支持市内屠宰 | D9: 淮北市杜集区段园镇牛多多养殖场 | E9: 14 | F9: 0.05 | G9: =E9*500/10000 -> 0.7 | H9: =G9 -> 0.7 | I9: =H9*[1]汇总2!$V$37 -> 0.25105974
A10: 8 | B10: 杜集区 | C10: 支持市内屠宰 | D10: 淮北市欣旺养牛场 | E10: 5 | F10: 0.05 | G10: =E10*500/10000 -> 0.25 | H10: =G10 -> 0.25 | I10: =H10*[1]汇总2!$V$37 -> 0.089664193
A11: 9 | B11: 烈山区 | C11: 推动肉牛产业提档升级 | D11: 淮北市鑫牛牧业有限公司 | E11: 54 | F11: 0.05 | G11: 2.7 | H11: =E11*F11 -> 2.7 | I11: =H11*[1]汇总2!$V$37 -> 0.96837328
A12: 10 | B12: 烈山区 | C12: 推动肉牛产业提档升级 | D12: 安徽木兰农牧业科技有限公司 | E12: 61 | F12: 0.05 | G12: 3.05 | H12: =E12*F12 -> 3.05 | I12: =H12*[1]汇总2!$V$37 -> 1.0939032
A13: 11 | B13: 濉溪县 | C13: 推动肉牛产业提档升级 | D13: 濉溪县韩村宏毅养殖场 | E13: 32 | F13: 0.05 | G13: 1.95 | H13: =E13*F13 -> 1.6 | I13: =H13*[1]汇总2!$V$37 -> 0.57385084 | J13: 申报主体提供的检疫证明和台账合计32头，申报37头
A14: 12 | B14: 濉溪县 | C14: 推动肉牛产业提档升级 | D14: 濉溪县艳军肉牛养殖场 | E14: 176 | F14: 0.05 | G14: 8.8 | H14: =E14*F14 -> 8.8 | I14: =H14*[1]汇总2!$V$37 -> 3.1561796
A15: 13 | B15: 濉溪县 | C15: 推动肉牛产业提档升级 | D15: 濉溪县周楼养殖场 | E15: 7 | F15: 0.05 | G15: 0.35 | H15: =E15*F15 -> 0.35 | I15: =H15*[1]汇总2!$V$37 -> 0.12552987
A16: 14 | B16: 濉溪县 | C16: 推动肉牛产业提档升级 | D16: 濉溪县众顺牧业有限公司 | E16: 277 | F16: 0.05 | G16: 13.85 | H16: =E16*F16 -> 13.85 | I16: =H16*[1]汇总2!$V$37 -> 4.9673963
A17: 15 | B17: 濉溪县 | C17: 推动肉牛产业提档升级 | D17: 安徽鸿源润牧业有限公司 | E17: 123 | F17: 0.05 | G17: 6.15 | H17: =E17*F17 -> 6.15 | I17: =H17*[1]汇总2!$V$37 -> 2.2057391
A18: 16 | B18: 濉溪县 | C18: 推动肉牛产业提档升级 | D18: 濉溪县孙疃罗振江家庭农场 | E18: 36 | F18: 0.05 | G18: 1.8 | H18: =E18*F18 -> 1.8 | I18: =H18*[1]汇总2!$V$37 -> 0.64558219
A19: 17 | B19: 濉溪县 | C19: 推动肉牛产业提档升级 | D19: 濉溪县孙疃郭奎家庭农场 | E19: 36 | F19: 0.05 | G19: 1.8 | H19: =E19*F19 -> 1.8 | I19: =H19*[1]汇总2!$V$37 -> 0.64558219
A20: 18 | B20: 濉溪县 | C20: 推动肉牛产业提档升级 | D20: 濉溪县奎军家庭农场 | E20: 18 | F20: 0.05 | G20: 0.9 | H20: =E20*F20 -> 0.9 | I20: =H20*[1]汇总2!$V$37 -> 0.32279109
A21: 19 | B21: 濉溪县 | C21: 推动肉牛产业提档升级 | D21: 濉溪县孙疃郭玉家庭农场 | E21: 16 | F21: 0.05 | G21: 0.8 | H21: =E21*F21 -> 0.8 | I21: =H21*[1]汇总2!$V$37 -> 0.28692542
A22: 20 | B22: 濉溪县 | C22: 推动肉牛产业提档升级 | D22: 濉溪县百善刁明建养殖场 | E22: 30 | F22: 0.05 | G22: 1.5 | H22: =E22*F22 -> 1.5 | I22: =H22*[1]汇总2!$V$37 -> 0.53798516
B23: 合 计 | G23: =SUM(G3:G22) -> 95.7 | H23: =SUM(H3:H22) -> 95.35 | I23: =H23*[1]汇总2!$V$37 -> 34.197923

Sheet 2-4.支持粪污资源产业化发展
A1: 4、支持粪污资源产业化发展汇总表
A2: 序号 | B2: 县区 | C2: 项目名称 | D2: 实施单位 | E2: 设施投资 （万元） | F2: 补贴标准 | G2: 县区核查投 资额（万元） | H2: 县区审定奖补 金额（万元） | I2: 核查审定投 资额（万元） | J2: 核查审定奖补金额（万元） | K2: 发放金额(万元)
A3: 1 | B3: 濉溪县 | C3: 粪污资源产业化发展 | D3: 濉溪县功成生物科技有限公司 | E3: 67.6 | F3: 0.3 | G3: 67.6 | H3: 10.68 | I3: 67.6 | J3: =H3 -> 10.68 | K3: =J3*[1]汇总2!$V$37 -> 3.8304543
A4: 2 | B4: 濉溪县 | C4: 粪污资源产业化发展 | D4: 淮北市思美生物有机肥有限公司 | E4: 75 | F4: 0.3 | G4: 75 | H4: 22.5 | I4: =E4 -> 75 | J4: =E4*F4 -> 22.5 | K4: =J4*[1]汇总2!$V$37 -> 8.0697774
A5: 3 | B5: 濉溪县 | C5: 粪污资源产业化发展 | D5: 安徽穗民农业科技有限公司 | E5: 343.65 | F5: 0.3 | G5: 343.65 | H5: 100 | I5: 284 | J5: =I5*F5 -> 85.2 | K5: =J5*[1]汇总2!$V$37 -> 30.557557
B6: 合 计 | H6: =SUM(H3:H5) -> 133.18 | I6: =SUM(I3:I5) -> 426.6 | J6: =SUM(J3:J5) -> 118.38 | K6: =J6*[1]汇总2!$V$37 -> 42.457789

Sheet 2-5.培育肉牛产业特色镇、示范村
A1: 5、培育肉牛产业特色镇、示范村汇总表
A2: 序号 | B2: 县区 | C2: 项目名称 | D2: 实施单位 | E2: 申报新增数量 | F2: 审定新增数量 | G2: 补贴标准（万元） | H2: 县区审定奖补 金额（万元） | I2: 核查审定奖补金额（万元） | J2: 发放金额(万元)
A3: 1 | B3: 烈山区 | C3: 培育肉牛产业特色镇、示范村 | D3: 淮北烈山区古饶镇新村社区 | E3: 2206 | F3: 2206 | G3: 20 | H3: 20 | I3: =H3 -> 20 | J3: =H3*[1]汇总2!$V$37 -> 7.1731354
A4: 2 | B4: 烈山区 | C4: 培育肉牛产业特色镇、示范村 | D4: 淮北烈山区古饶镇人民政府 | E4: 5133 | F4: 5133 | G4: 100 | H4: 100 | I4: =H4 -> 100 | J4: =H4*[1]汇总2!$V$37 -> 35.865677
A5: 3 | B5: 杜集区 | C5: 培育肉牛产业特色镇、示范村 | D5: 安徽省淮北市杜集区段园镇欧集村村民委员会 | E5: 1063 | F5: =E5 -> 1063 | H5: 20 | I5: =H5 -> 20 | J5: =H5*[1]汇总2!$V$37 -> 7.1731354
A6: 4 | B6: 杜集区 | C6: 培育肉牛产业特色镇、示范村 | D6: 安徽省淮北市杜集区段园镇毛场村村民委员会 | E6: 1459 | F6: =E6 -> 1459 | H6: 20 | I6: =H6 -> 20 | J6: =H6*[1]汇总2!$V$37 -> 7.1731354
A7: 5 | B7: 杜集区 | C7: 培育肉牛产业特色镇、示范村 | D7: 安徽省淮北市杜集区段园镇大庄村村民委员会 | E7: 1260 | F7: 1260 | H7: 20 | I7: =H7 -> 20 | J7: =H7*[1]汇总2!$V$37 -> 7.1731354
A8: 6 | B8: 濉溪县 | C8: 培育肉牛产业特色镇、示范村 | D8: 濉溪县百善镇人民政府 | E8: 8513 | F8: 7339 | G8: 100 | H8: 100 | I8: =H8 -> 100 | J8: =H8*[1]汇总2!$V$37 -> 35.865677
A9: 7 | B9: 濉溪县 | C9: 培育肉牛产业特色镇、示范村 | D9: 铁佛镇人民政府 | E9: 13012 | F9: 5211 | G9: 100 | H9: 100 | I9: =H9 -> 100 | J9: =H9*[1]汇总2!$V$37 -> 35.865677
A10: 8 | B10: 濉溪县 | C10: 培育肉牛产业特色镇、示范村 | D10: 孙疃镇 | E10: 11803 | F10: 6217 | G10: 100 | H10: 100 | I10: =H10 -> 100 | J10: =H10*[1]汇总2!$V$37 -> 35.865677
A11: 9 | B11: 濉溪县 | C11: 培育肉牛产业特色镇、示范村 | D11: 濉溪县百善镇前营村民委员会 | E11: 1300 | F11: 1300 | G11: 20 | H11: 20 | I11: =H11 -> 20 | J11: =H11*[1]汇总2!$V$37 -> 7.1731354
A12: 10 | B12: 濉溪县 | C12: 培育肉牛产业特色镇、示范村 | D12: 濉溪县闫集村民委员会 | E12: 1300 | F12: 1300 | G12: 20 | H12: 20 | I12: =H12 -> 20 | J12: =H12*[1]汇总2!$V$37 -> 7.1731354
A13: 11 | B13: 濉溪县 | C13: 培育肉牛产业特色镇、示范村 | D13: 濉溪县百善镇苇菠村民委员会 | E13: 1300 | F13: 1300 | G13: 20 | H13: 20 | I13: =H13 -> 20 | J13: =H13*[1]汇总2!$V$37 -> 7.1731354
A14: 12 | B14: 濉溪县 | C14: 培育肉牛产业特色镇、示范村 | D14: 铁佛镇张庄村 | E14: 5613 | F14: 5613 | G14: 20 | H14: 20 | I14: =H14 -> 20 | J14: =H14*[1]汇总2!$V$37 -> 7.1731354
A15: 13 | B15: 濉溪县 | C15: 培育肉牛产业特色镇、示范村 | D15: 孙疃镇大田村 | E15: 1105 | F15: 1105 | G15: 20 | H15: 20 | I15: 20 | J15: =H15*[1]汇总2!$V$37 -> 7.1731354
A16: 14 | B16: 濉溪县 | C16: 培育肉牛产业特色镇、示范村 | D16: 孙疃镇燕头村 | E16: 1018 | F16: 1018 | G16: 20 | H16: 20 | I16: 20 | J16: =H16*[1]汇总2!$V$37 -> 7.1731354
B17: 合 计 | H17: =SUM(H3:H16) -> 600 | I17: =SUM(I3:I16) -> 600 | J17: =SUM(J3:J16) -> 215.19406

Sheet 2-6.支持在淮举办大型专业协会或年会
A1: 6、支持在淮举办大型专业协会或年会汇总表
A2: 序号 | B2: 县区 | C2: 项目名称 | D2: 实施单位 | E2: 财政支持内容 | F2: 补贴标准（万元） | G2: 县区审定奖补 金额（万元） | H2: 核查审定奖补金额（万元） | I2: 发放金额(万元)
A3: 1 | B3: 杜集区 | C3: 支持科技赋能创新驱动 | D3: 淮北市牛满圈肉牛产业饲料有限公司 | E3: 支持科技赋能创新驱动 | F3: 10 | G3: 10 | H3: 10 | I3: =H3*[1]汇总2!$V$37 -> 3.5865677
B4: 合 计 | G4: =G3 -> 10 | H4: 10 | I4: =H4*[1]汇总2!$V$37 -> 3.5865677

Sheet 2-7.支持搭建合作平台
A1: 7、支持搭建合作平台汇总表
A2: 序号 | B2: 县区 | C2: 项目名称 | D2: 实施单位 | E2: 架子牛规模 | F2: 审定规模 | G2: 补贴标准（万元） | H2: 县区审定奖补 金额（万元） | I2: 核查审定奖补金额（万元） | J2: 发放金额(万元)
A3: 1 | B3: 杜集区 | C3: 支持搭建合作平台 | D3: 淮北市牛满圈肉牛产业饲料有限公司 | E3: 4200 | F3: =E3 -> 4200 | G3: 0.01 | H3: =42 -> 42 | I3: =E3*G3 -> 42 | J3: =I3*[1]汇总2!$V$37 -> 15.063584
A4: 2 | B4: 濉溪县 | C4: 支持搭建合作平台 | D4: 濉溪县（百善）肉牛产业发展服务中心 | E4: 2239 | F4: =E4-438 -> 1801 | G4: 0.01 | H4: 22.39 | I4: =F4*G4 -> 18.01 | J4: =I4*[1]汇总2!$V$37 -> 6.4594085
B5: 合 计 | I5: =I3+I4 -> 60.01 | J5: =J3+J4 -> 21.522993

Sheet 2-8.肉牛养殖贷款
A1: 8、肉牛养殖贷款汇总表
A2: 序号 | B2: 县区 | C2: 项目单位 | D2: 县区审定奖补 金额（万元） | E2: 核查审定贴息金额（万元） | F2: 发放金额(万元) | G2: 备注
A3: 1 | B3: 杜集区 | C3: 淮北市飞达养牛合作社 | D3: 7.6176 | E3: 0 | F3: =E3*[1]汇总2!$V$37 -> 0 | G3: 个人借款，核销
A4: 2 | B4: 杜集区 | C4: 淮北市段园镇长兴家庭农场 | D4: 2.2526 | E4: 0 | F4: =E4*[1]汇总2!$V$37 -> 0 | G4: 个人借款，核销
A5: 3 | B5: 杜集区 | C5: 淮北市杜集区段园镇张礼富养殖场 | D5: 1.0472 | E5: 0 | F5: =E5*[1]汇总2!$V$37 -> 0 | G5: 个人借款，核销
A6: 4 | B6: 杜集区 | C6: 淮北市杜集区段园镇理想养殖场 | D6: 1.9734 | E6: 0 | F6: =E6*[1]汇总2!$V$37 -> 0 | G6: 个人借款，核销
A7: 5 | B7: 杜集区 | C7: 淮北市杜集区段园镇黄河养殖厂 | D7: 1.5707 | E7: 0 | F7: =E7*[1]汇总2!$V$37 -> 0 | G7: 个人借款，核销
A8: 6 | B8: 杜集区 | C8: 淮北市杜集区夫利养殖场 | D8: 1.5707 | E8: 0 | F8: =E8*[1]汇总2!$V$37 -> 0 | G8: 个人借款，核销
A9: 7 | B9: 杜集区 | C9: 淮北市杜集区学峰养殖厂 | D9: 4.0952 | E9: 0 | F9: =E9*[1]汇总2!$V$37 -> 0 | G9: 个人借款，核销
A10: 8 | B10: 杜集区 | C10: 淮北市杜集区段园镇胜利养殖场 | D10: 3.1075 | E10: 0 | F10: =E10*[1]汇总2!$V$37 -> 0 | G10: 个人借款，核销
A11: 9 | B11: 杜集区 | C11: 淮北市杜集区段园镇昊宸养殖场 | D11: 7.1984 | E11: 0 | F11: =E11*[1]汇总2!$V$37 -> 0 | G11: 个人借款，核销
A12: 10 | B12: 杜集区 | C12: 淮北市杜集区丁斌养殖场 | D12: 4.8119 | E12: 0 | F12: =E12*[1]汇总2!$V$37 -> 0 | G12: 个人借款，核销
A13: 11 | B13: 杜集区 | C13: 淮北市杜集区周贺牛养殖场 | D13: 0.9456 | E13: 0 | F13: =E13*[1]汇总2!$V$37 -> 0 | G13: 个人借款，核销
A14: 12 | B14: 杜集区 | C14: 淮北市杜集区依瑞养殖场 | D14: 3.2366 | E14: 0 | F14: =E14*[1]汇总2!$V$37 -> 0 | G14: 个人借款，核销
... A107: 105 | B107: 杜集区 | C107: 淮北市杜集区徐敬敬家庭农场 | D107: 4.1501 | E107: 0 | F107: =E107*[1]汇总2!$V$37 -> 0 | G107: 个人借款，核销
A108: 106 | B108: 烈山区 | C108: 安徽木兰农牧业科技有限公司 | D108: 96.8 | E108: 96.796311 | F108: =E108*[1]汇总2!$V$37 -> 34.716652
A109: 107 | B109: 烈山区 | C109: 淮北市烈山区古饶秦小波养殖场 | D109: 2.11 | E109: 0 | F109: =E109*[1]汇总2!$V$37 -> 0 | G109: 个人借款，核销
A110: 108 | B110: 烈山区 | C110: 淮北市鸿旺畜牧养殖有限公司 | D110: 26.65 | E110: 21.020965 | F110: =E110*[1]汇总2!$V$37 -> 7.5393115 | G110: 重新测算
A111: 109 | B111: 烈山区 | C111: 淮北市鑫牛牧业有限公司 | D111: 4.17 | E111: 0 | F111: =E111*[1]汇总2!$V$37 -> 0 | G111: 个人借款，核销
A112: 110 | B112: 烈山区 | C112: 淮北市古饶秀丽养殖场 | D112: 6.53 | E112: 0 | F112: =E112*[1]汇总2!$V$37 -> 0 | G112: 个人借款，核销
A113: 111 | B113: 烈山区 | C113: 淮北市烈山区李端好养殖场 | D113: 0.66 | E113: 0 | F113: =E113*[1]汇总2!$V$37 -> 0 | G113: 个人借款，核销
A114: 112 | B114: 烈山区 | C114: 淮北市富牧养殖有限公司 | D114: 0.97 | E114: 0 | F114: =E114*[1]汇总2!$V$37 -> 0 | G114: 个人借款，核销
A115: 113 | B115: 烈山区 | C115: 淮北市烈山区宝隆农场 | D115: 5.42 | E115: 0 | F115: =E115*[1]汇总2!$V$37 -> 0 | G115: 个人借款，核销
A116: 114 | B116: 烈山区 | C116: 淮北市烈山区古饶大彭家庭农场 | D116: 0.58 | E116: 0 | F116: =E116*[1]汇总2!$V$37 -> 0 | G116: 个人借款，核销
A117: 115 | B117: 烈山区 | C117: 淮北市烈山区十全养殖场 | D117: 0.87 | E117: 0 | F117: =E117*[1]汇总2!$V$37 -> 0 | G117: 个人借款，核销
A118: 116 | B118: 烈山区 | C118: 淮北市烈山区李敏养殖场 | D118: 1.061155 | E118: 0 | F118: =E118*[1]汇总2!$V$37 -> 0 | G118: 个人借款，核销
A119: 117 | B119: 烈山区 | C119: 淮北市烈山区李端云养殖场 | D119: 2.3207 | E119: 0 | F119: =E119*[1]汇总2!$V$37 -> 0 | G119: 个人借款，核销
A120: 118 | B120: 濉溪县 | C120: 濉溪县韩村宏毅养殖场 | D120: 1.3365 | E120: 0 | F120: =E120*[1]汇总2!$V$37 -> 0 | G120: 个人借款，核销
... A217: 215 | B217: 濉溪县 | C217: 南坪宇翔养殖场 | D217: 2.0327 | E217: 0 | F217: =E217*[1]汇总2!$V$37 -> 0 | G217: 贷款合同缺失
A218: 合计 | D218: =SUM(D3:D217) -> 862.92842 | E218: 245 | F218: =SUM(F3:F217) -> 87.868211
